BEGIN:VCALENDAR
VERSION:2.0
PRODID:-//ChamberMaster//Event Calendar 2.0//EN
METHOD:PUBLISH
X-PUBLISHED-TTL:P3D
REFRESH-INTERVAL:P3D
CALSCALE:GREGORIAN
BEGIN:VEVENT
DTSTART:20190716T163000Z
DTEND:20190716T173000Z
X-MICROSOFT-CDO-ALLDAYEVENT:FALSE
SUMMARY:Stetson University - MBA Virtual Webinar
DESCRIPTION:Learn more about the Stetson MBA program from the convenience of your home or workplace by joining our virtual information session online. Interact online with staff and learn how the Stetson MBA can prepare you for future success. We will explore program information as well as the application process.\n\n\n\n\n\n*You will have the opportunity to type in questions during the presentation. Please log in at 12:30pm (EST) so the session can begin on time.\n\n\n\nRegister here - https://admissions.stetson.edu/register/?id=860b04a6-56ef-4785-9818-15f21b47adb2&_ga=2.38049319.547528770.1546959893-400557282.1473800453
X-ALT-DESC;FMTTYPE=text/html:<span style="color:black"><span style="font-family:arial\,sans-serif"><span style="font-size:10.5pt">Learn more about the Stetson MBA program from the convenience of your home or workplace by joining our virtual information session online. Interact online with staff and learn how the Stetson MBA can prepare you for future success. We will explore program information as well as the application process.</span></span></span><br />\n<br />\n<br />\n<span style="color:black"><span style="font-family:arial\,sans-serif"><span style="font-size:10.5pt">*You will have the opportunity to type in questions during the presentation.&nbsp\;Please log in at 12:30pm (EST) so the session can begin on time.</span></span></span><br />\n<br />\nRegister here - https://admissions.stetson.edu/register/?id=860b04a6-56ef-4785-9818-15f21b47adb2&amp\;_ga=2.38049319.547528770.1546959893-400557282.1473800453<br />\n&nbsp\;
LOCATION:Online
UID:e.2138.14856
SEQUENCE:3
DTSTAMP:20260422T045429Z
URL:https://business.seminolebusiness.org/events/details/stetson-university-mba-virtual-webinar-07-16-2019-14856
END:VEVENT

END:VCALENDAR
