BEGIN:VCALENDAR
VERSION:2.0
PRODID:-//ChamberMaster//Event Calendar 2.0//EN
METHOD:PUBLISH
X-PUBLISHED-TTL:P3D
REFRESH-INTERVAL:P3D
CALSCALE:GREGORIAN
BEGIN:VEVENT
DTSTART:20180323T163000Z
DTEND:20180323T173000Z
X-MICROSOFT-CDO-ALLDAYEVENT:FALSE
SUMMARY:Stetson University - MBA Vrtual Webinar
DESCRIPTION:Learn more about the Stetson MBA program from the convenience of your home or workplace by joining our virtual information session online. Interact online with staff and learn how the Stetson MBA can prepare you for future success. We will explore program information as well as the application process.\n\n*You will have the opportunity to type in questions during the presentation. Please log in at 12:30pm (EST) so the session can begin on time.\n\n \n\nREGISTER HERE   \n\nhttps://admissions.stetson.edu/register/?id=23b1a0d4-6a60-4456-adfb-9512d8609b79
X-ALT-DESC;FMTTYPE=text/html:<span style="color:black"><span style="font-family:arial\,sans-serif"><span style="font-size:10.5pt">Learn more about the Stetson MBA program from the convenience of your home or workplace by joining our virtual information session online. Interact online with staff and learn how the Stetson MBA can prepare you for future success. We will explore program information as well as the application process.</span></span></span><br />\n<span style="color:black"><span style="font-family:arial\,sans-serif"><span style="font-size:10.5pt">*You will have the opportunity to type in questions during the presentation.</span></span></span><span style="color:black"><span style="font-family:arial\,sans-serif"><span style="font-size:10.5pt">&nbsp\;Please log in at 12:30pm (EST) so the session can begin on time.</span></span></span><br />\n&nbsp\;<br />\n<span style="color:black"><span style="font-family:arial\,sans-serif"><span style="font-size:10.5pt">REGISTER HERE &ndash\; </span></span></span><br />\n<a href="https://admissions.stetson.edu/register/?id=23b1a0d4-6a60-4456-adfb-9512d8609b79">https://admissions.stetson.edu/register/?id=23b1a0d4-6a60-4456-adfb-9512d8609b79</a>
LOCATION:Online Webinar
UID:e.2138.8279
SEQUENCE:3
DTSTAMP:20260424T130307Z
URL:https://business.seminolebusiness.org/events/details/stetson-university-mba-vrtual-webinar-03-23-2018-8279
END:VEVENT

END:VCALENDAR
