BEGIN:VCALENDAR
VERSION:2.0
PRODID:-//ChamberMaster//Event Calendar 2.0//EN
METHOD:PUBLISH
X-PUBLISHED-TTL:P3D
REFRESH-INTERVAL:P3D
CALSCALE:GREGORIAN
BEGIN:VEVENT
DTSTART:20170601T220000Z
DTEND:20170601T230000Z
X-MICROSOFT-CDO-ALLDAYEVENT:FALSE
SUMMARY:Stetson University to host GMAT Information session June 1\, 2017
DESCRIPTION:Stetson University will host Glenda Lucas from the Graduate Management Admission Council (GMAC) on Thursday June 1\, 2017 at 6:00pm. The event will be held at Stetson University?s Marshall and Vera Lea Rinker Welcome Center located at 421 N. Woodland Blvd.\, DeLand\, FL 32723. Learn more about the GMAT exam as well as the graduate business programs offered at Stetson University. Attendees will be entered to win a GMAT gift voucher to pay for the GMAT exam. Contact Brandon Speith at bspeith@stetson.edu or 386-822-7104.\n\n\n\nRegister for the event here - https://admissions.stetson.edu/register/?id=27b72495-1fe1-4f62-9bc7-f9f12881fe9e
X-ALT-DESC;FMTTYPE=text/html:<span style="font-family:times new roman\,serif"><span style="font-size:12.0pt">Stetson University will host Glenda Lucas from the Graduate Management Admission Council (GMAC) on Thursday June 1\, 2017 at 6:00pm. The event will be held at Stetson University?s Marshall and Vera Lea Rinker Welcome Center located at 421 N. Woodland Blvd.\, DeLand\, FL 32723. Learn more about the GMAT exam as well as the graduate business programs offered at Stetson University. Attendees will be entered to win a GMAT gift voucher to pay for the GMAT exam. Contact Brandon Speith at <a href="mailto:bspeith@stetson.edu">bspeith@stetson.edu</a> or 386-822-7104.<br />\n<br />\nRegister for the event here - <a href="https://admissions.stetson.edu/register/?id=27b72495-1fe1-4f62-9bc7-f9f12881fe9e">https://admissions.stetson.edu/register/?id=27b72495-1fe1-4f62-9bc7-f9f12881fe9e</a></span></span>
LOCATION:Stetson University Marshall & Vera Lea Rinker Welcome Center 421 N. Woodland Blvd. DeLand\, FL 32723
UID:e.2138.6744
SEQUENCE:3
DTSTAMP:20260423T223220Z
URL:https://business.seminolebusiness.org/events/details/stetson-university-to-host-gmat-information-session-june-1-2017-6744
END:VEVENT

END:VCALENDAR
