BEGIN:VCALENDAR
VERSION:2.0
PRODID:-//ChamberMaster//Event Calendar 2.0//EN
METHOD:PUBLISH
X-PUBLISHED-TTL:P3D
REFRESH-INTERVAL:P3D
CALSCALE:GREGORIAN
BEGIN:VEVENT
DTSTART:20160413T140000Z
DTEND:20160413T143000Z
X-MICROSOFT-CDO-ALLDAYEVENT:FALSE
SUMMARY:Story time at the Zoo at the Central Florida Zoo & Botanical Gardens
DESCRIPTION:Enjoy animal stories from 10:00 a.m. to 10:30 a.m. at the Rainforest Pavilion along with a special visit from one of our Zoo animals. Programs will be presented by the Orange County Library System storytellers April 6\,13\, 20\, 27\, 2016. This free program is designed for pre-school age children. For more information call 407.323.4450 ext. 123 or email education@centralfloridazoo.org.
X-ALT-DESC;FMTTYPE=text/html:<strong><span style="color:black"><span style="font-family:arial narrow\,sans-serif">Enjoy</span></span></strong><span style="color:black"><span style="font-family:arial narrow\,sans-serif"> animal stories from 10:00 a.m. to 10:30 a.m. at the Rainforest Pavilion along with a special visit from one of our Zoo animals. Programs will be presented by the <strong>Orange County Library</strong> System storytellers April 6\,13\, 20\, 27\, 2016. This free program is designed for pre-school age children.&nbsp\;For more information call 407.323.4450 ext. 123 or email </span></span><a href="mailto:education@centralfloridazoo.org"><span style="font-family:arial narrow\,sans-serif">education@centralfloridazoo.org</span></a><span style="color:black"><span style="font-family:arial narrow\,sans-serif">. &nbsp\;</span></span>
LOCATION:The Central Florida Zoo and Botanical Gardens\, 3755 NW Hwy 17-92 Sanford\, FL 32771
UID:e.2138.4218
SEQUENCE:3
DTSTAMP:20260426T014151Z
URL:https://business.seminolebusiness.org/events/details/story-time-at-the-zoo-at-the-central-florida-zoo-botanical-gardens-04-13-2016-4218
END:VEVENT

END:VCALENDAR
