BEGIN:VCALENDAR
VERSION:2.0
PRODID:-//ChamberMaster//Event Calendar 2.0//EN
METHOD:PUBLISH
X-PUBLISHED-TTL:P3D
REFRESH-INTERVAL:P3D
CALSCALE:GREGORIAN
BEGIN:VEVENT
DTSTART:20161102T140000Z
DTEND:20161102T143000Z
X-MICROSOFT-CDO-ALLDAYEVENT:FALSE
SUMMARY:Storytime at the Central Florida Zoo
DESCRIPTION:Enjoy animal stories from 10:00 a.m. to 10:30 a.m. at the Rainforest Pavilion along with a special visit from one of our Zoo animals. Programs will be presented by the Orange County Library System storytellers. This free program is designed for pre-school age children. For more information call 407.323.4450 ext. 123 or email education@centralfloridazoo.org.
X-ALT-DESC;FMTTYPE=text/html:<p>Enjoy animal stories from 10:00 a.m. to 10:30 a.m. at the Rainforest Pavilion along with a special visit from one of our Zoo animals. Programs will be presented by the&nbsp\;<strong>Orange County Library System</strong>&nbsp\;storytellers. This free program is designed for pre-school age children. For more information call 407.323.4450 ext. 123 or email&nbsp\;<a href="mailto:education@centralfloridazoo.org" style="color: rgb(0\, 129\, 198)\; text-decoration: none\;">education@centralfloridazoo.org</a>.</p>\n\n<div>&nbsp\;</div>\n
LOCATION:Central Florida Zoo & Botanical Gardens 3755 US HWY 17-92 Sanford\, FL 32771 Exit 104 on I-4 This event will take place at the Rainforest Pavilion.
UID:e.2138.4788
SEQUENCE:3
DTSTAMP:20260425T150602Z
URL:https://business.seminolebusiness.org/events/details/storytime-at-the-central-florida-zoo-11-02-2016-4788
END:VEVENT

END:VCALENDAR
