BEGIN:VCALENDAR
VERSION:2.0
PRODID:-//ChamberMaster//Event Calendar 2.0//EN
METHOD:PUBLISH
X-PUBLISHED-TTL:P3D
REFRESH-INTERVAL:P3D
CALSCALE:GREGORIAN
BEGIN:VEVENT
DTSTART:20190809T230000Z
DTEND:20190810T010000Z
X-MICROSOFT-CDO-ALLDAYEVENT:FALSE
SUMMARY:Stranger Things Trivia Night
DESCRIPTION:Join us in the upside down as we try to untangle the mystery of Hawkins\, Indiana. Time to watch the new season if you haven't already because questions will be covering seasons 1-3.
X-ALT-DESC;FMTTYPE=text/html:<span style="color:rgb(29\, 33\, 41)\; font-family:system-ui\,-apple-system\,system-ui\,.sfnstext-regular\,sans-serif\; font-size:14px">Join us in the upside down as we try to untangle the mystery of Hawkins\, Indiana. Time to watch the new season if you haven&#39\;t already because questions will be covering seasons 1-3.</span>
LOCATION:Boston Coffeehouse Altamonte Springs 851 S SR 434 Suite 1190 Altamonte Springs FL\, 32714
UID:e.2138.16383
SEQUENCE:3
DTSTAMP:20260422T034248Z
URL:https://business.seminolebusiness.org/events/details/stranger-things-trivia-night-16383
END:VEVENT

END:VCALENDAR
