BEGIN:VCALENDAR
VERSION:2.0
PRODID:-//ChamberMaster//Event Calendar 2.0//EN
METHOD:PUBLISH
X-PUBLISHED-TTL:P3D
REFRESH-INTERVAL:P3D
CALSCALE:GREGORIAN
BEGIN:VEVENT
DTSTART:20170115T200000Z
DTEND:20170115T210000Z
X-MICROSOFT-CDO-ALLDAYEVENT:FALSE
SUMMARY:Stress - For everyone
DESCRIPTION:Whether you need a few easy tips or help breaking the cycle of contant stress\, Dr. J can steer you in the right direction.
X-ALT-DESC;FMTTYPE=text/html:Whether you need a few easy tips or help breaking the cycle of contant stress\, Dr. J can steer you in the right direction.&nbsp\;
LOCATION:660 Florida Central Pkwy Longwood\, FL 32750
UID:e.2138.4865
SEQUENCE:3
DTSTAMP:20260423T144232Z
URL:https://business.seminolebusiness.org/events/details/stress-for-everyone-01-15-2017-4865
END:VEVENT

END:VCALENDAR
