BEGIN:VCALENDAR
VERSION:2.0
PRODID:-//ChamberMaster//Event Calendar 2.0//EN
METHOD:PUBLISH
X-PUBLISHED-TTL:P3D
REFRESH-INTERVAL:P3D
CALSCALE:GREGORIAN
BEGIN:VEVENT
DTSTART:20160917T120000Z
DTEND:20160917T153000Z
X-MICROSOFT-CDO-ALLDAYEVENT:FALSE
SUMMARY:Stroll 'n' Roll 2016
DESCRIPTION:On Saturday\, September 17th at Harbor Park on Lake Baldwin hundreds will gather for the Center for Independent Living's (CIL) 6th Annual Stroll 'n' Roll. Throughout the past 40 years CIL has lead the Central Florida community in advocating for disability inclusion and accessibility. Stroll 'n' Roll is a celebration of community unity and inclusion for people of all abilities
X-ALT-DESC;FMTTYPE=text/html:On Saturday\, September 17th at Harbor Park on Lake Baldwin hundreds will gather for the <em>Center for Independent Living&rsquo\;s</em> (CIL) 6<sup>th</sup> Annual <strong>Stroll &lsquo\;n&rsquo\; Roll</strong>. Throughout the past 40 years CIL has lead the Central Florida community in advocating for disability inclusion and accessibility. <strong>Stroll &#39\;n&#39\; Roll</strong> is a celebration of community unity and inclusion for people of all abilities<br />\n&nbsp\;
LOCATION:4990 New Broad Street Orlando\, FL 32814
UID:e.2138.4618
SEQUENCE:3
DTSTAMP:20260425T175812Z
URL:https://business.seminolebusiness.org/events/details/stroll-n-roll-2016-09-17-2016-4618
END:VEVENT

END:VCALENDAR
