BEGIN:VCALENDAR
VERSION:2.0
PRODID:-//ChamberMaster//Event Calendar 2.0//EN
METHOD:PUBLISH
X-PUBLISHED-TTL:P3D
REFRESH-INTERVAL:P3D
CALSCALE:GREGORIAN
BEGIN:VEVENT
DTSTART:20180310T130000Z
DTEND:20180310T160000Z
X-MICROSOFT-CDO-ALLDAYEVENT:FALSE
SUMMARY:Stroll 'n' Roll
DESCRIPTION:Join the 7th annual Stroll 'n' Roll walk for disability inclusion and help raise funds for programs that will break down barriers and create inclusion for people with disabilities in Central Florida.
X-ALT-DESC;FMTTYPE=text/html:Join the 7th annual Stroll &lsquo\;n&rsquo\; Roll walk for disability inclusion and help raise funds for programs that will break down barriers and create inclusion for people with disabilities in Central Florida.
LOCATION:Crane's Roost Park 283 Crane's Roost blvd Altamonte Springs\, FL 32701
UID:e.2138.7790
SEQUENCE:3
DTSTAMP:20260424T130023Z
URL:https://business.seminolebusiness.org/events/details/stroll-n-roll-2017-7790
END:VEVENT

END:VCALENDAR
