BEGIN:VCALENDAR
VERSION:2.0
PRODID:-//ChamberMaster//Event Calendar 2.0//EN
METHOD:PUBLISH
X-PUBLISHED-TTL:P3D
REFRESH-INTERVAL:P3D
CALSCALE:GREGORIAN
BEGIN:VEVENT
DTSTART:20170209T200000Z
DTEND:20170209T213000Z
X-MICROSOFT-CDO-ALLDAYEVENT:FALSE
SUMMARY:Successful Strategies for New Businesses/ Estrategias Exitosas Para Nuevos Negocios
DESCRIPTION:This course provides basic information and resources to help entrepreneurs start a business. Topics include: licenses and permits\, state regulations\, financing options\, and business development services offered by Prospera.--- Esta sesi n es para dar informaci n b sica sobre c mo comenzar un negocio. Temas incluyen: licencias\, requisitos del estado\, opciones de financiamiento y c mo Prospera le puede proveer asistencia para comenzar o expandir su negocio.\n\n\n\nLos seminarios de negocios de Prospera son gratuitos\, presentados en espa ol y abiertos al p blico.
X-ALT-DESC;FMTTYPE=text/html:This course provides basic information and resources to help entrepreneurs start a business. Topics include: licenses and permits\, state regulations\, financing options\, and business development services offered by Prospera.--- Esta sesi&oacute\;n es para dar informaci&oacute\;n b&aacute\;sica sobre c&oacute\;mo comenzar un negocio. Temas incluyen: licencias\, requisitos del estado\, opciones de financiamiento y c&oacute\;mo Prospera le puede proveer asistencia para comenzar o expandir su negocio.<br />\n<br />\nLos seminarios de negocios de Prospera son gratuitos\, presentados en espa&ntilde\;ol y abiertos al p&uacute\;blico.
LOCATION:Heathrow Campus- Seminole State College 1055 AAA Dr. Heathrow\, FL 32746
UID:e.2138.6440
SEQUENCE:3
DTSTAMP:20260423T162310Z
URL:https://business.seminolebusiness.org/events/details/successful-strategies-for-new-businesses-estrategias-exitosas-para-nuevos-negocios-6440
END:VEVENT

END:VCALENDAR
