BEGIN:VCALENDAR
VERSION:2.0
PRODID:-//ChamberMaster//Event Calendar 2.0//EN
METHOD:PUBLISH
X-PUBLISHED-TTL:P3D
REFRESH-INTERVAL:P3D
CALSCALE:GREGORIAN
BEGIN:VEVENT
DTSTART;VALUE=DATE:20160301
DTEND;VALUE=DATE:20160302
TRANSP:TRANSPARENT
X-MICROSOFT-CDO-ALLDAYEVENT:TRUE
SUMMARY:Summer Camp Registration Begins at the Central Florida Zoo & Botanical Gardens
DESCRIPTION:Bring your child to a whole new adventure. Explore our exciting summer programs including half and full day camp options for children ages 6-12. Summer camp registration will begin March 1. For more information or to register call 407.323.4450 ext. 123 or email education@centralfloridazoo.org. Visit our website www.centralfloridazoo.org for a complete brochure and pricing information or to register online.
X-ALT-DESC;FMTTYPE=text/html:<span style="color:black"><span style="font-family:arial narrow\,sans-serif"><span style="font-size:11.0pt">Bring your child to a whole new adventure.&nbsp\;Explore our exciting summer programs including half and full day camp options for children ages 6-12. Summer camp registration will begin March 1. For more information or to register call 407.323.4450 ext. 123 or email </span></span></span><span style="font-family:calibri\,sans-serif"><span style="font-size:11.0pt"><a href="mailto:education@centralfloridazoo.org"><span style="font-family:arial narrow\,sans-serif">education@centralfloridazoo.org</span></a></span></span><span style="color:black"><span style="font-family:arial narrow\,sans-serif"><span style="font-size:11.0pt">. Visit our website </span></span></span><span style="font-family:calibri\,sans-serif"><span style="font-size:11.0pt"><a href="http://www.centralfloridazoo.org/"><span style="font-family:arial narrow\,sans-serif">www.centralfloridazoo.org</span></a></span></span><span style="color:black"><span style="font-family:arial narrow\,sans-serif"><span style="font-size:11.0pt"> for a complete brochure and pricing information or to register online.</span></span></span>
LOCATION:The Central Florida Zoo and Botanical Gardens\, 3755 NW Hwy 17-92 Sanford\, FL 32771
UID:e.2138.4214
SEQUENCE:3
DTSTAMP:20260426T031409Z
URL:https://business.seminolebusiness.org/events/details/summer-camp-registration-begins-at-the-central-florida-zoo-botanical-gardens-03-01-2016-4214
END:VEVENT

END:VCALENDAR
