BEGIN:VCALENDAR
VERSION:2.0
PRODID:-//ChamberMaster//Event Calendar 2.0//EN
METHOD:PUBLISH
X-PUBLISHED-TTL:P3D
REFRESH-INTERVAL:P3D
CALSCALE:GREGORIAN
BEGIN:VEVENT
DTSTART:20170504T213000Z
DTEND:20170505T000000Z
X-MICROSOFT-CDO-ALLDAYEVENT:FALSE
SUMMARY:Sunset at the Central Florida Zoo
DESCRIPTION:The Zoo will close at 5 p.m.\, and then reopen at 5:30... this time for adults only! Enjoy beer\, wine\, Smoke in the City BBQ Food Truck\, music by Joshwayy Productions\, and animals as you stroll through the Zoo during this alternative to the standard happy hour!\n\nTime: 5:30 to sunset\n\nAdmission: $5\n\nAges: 21+\n\nBeer\, wine\, snacks\, and food from Smoke in the City BBQ Food Truck available for purchase.
X-ALT-DESC;FMTTYPE=text/html:<p>The Zoo will close at 5 p.m.\, and then reopen at 5:30... this time for adults only! Enjoy beer\, wine\, Smoke in the City BBQ Food Truck\, music by Joshwayy Productions\, and animals as you stroll through the Zoo during this alternative to the standard happy hour!</p>\n\n<p>Time: 5:30 to sunset</p>\n\n<p>Admission: $5</p>\n\n<p>Ages: 21+</p>\n\n<p>Beer\, wine\, snacks\, and food from Smoke in the City BBQ Food Truck available for purchase.&nbsp\;</p>\n
LOCATION:Central Florida Zoo & Botanical Gardens 3755 NW Hwy.17-92 Sanford\, FL 32771
UID:e.2138.6448
SEQUENCE:3
DTSTAMP:20260423T223302Z
URL:https://business.seminolebusiness.org/events/details/sunset-at-the-central-florida-zoo-05-04-2017-6448
END:VEVENT

END:VCALENDAR
