BEGIN:VCALENDAR
VERSION:2.0
PRODID:-//ChamberMaster//Event Calendar 2.0//EN
METHOD:PUBLISH
X-PUBLISHED-TTL:P3D
REFRESH-INTERVAL:P3D
CALSCALE:GREGORIAN
BEGIN:VEVENT
DTSTART:20161004T040000Z
DTEND:20161120T000000Z
X-MICROSOFT-CDO-ALLDAYEVENT:FALSE
SUMMARY:Support IMPOWER and Win BIG!
DESCRIPTION:Enter IMPOWER's 2016 Drawing of Chance and you could win a 2017 Mercedes-Benz CLA or $25\,000 cash!
X-ALT-DESC;FMTTYPE=text/html:<div style="text-align: center\;"><span style="font-size:22px\;"><span style="font-family:calibri">Enter IMPOWER&#39\;s <strong>2016 Drawing of Chance </strong>and you could win a <em>2017 Mercedes-Benz CLA or $25\,000 cash</em>! </span></span></div>\n<br />\n<br />\n&nbsp\;
LOCATION:(Drawing will be held November 19th at 9pm at The Power Event LIVE! at the Orlando Sanford International Airport. Admission to event sold separately\; need not be present to win. Mail\, phone and internet orders will be available through 11/18/2016 at 3pm.
UID:e.2138.5725
SEQUENCE:3
DTSTAMP:20260425T150312Z
URL:https://business.seminolebusiness.org/events/details/support-impower-and-win-big-5725
END:VEVENT

END:VCALENDAR
