BEGIN:VCALENDAR
VERSION:2.0
PRODID:-//ChamberMaster//Event Calendar 2.0//EN
METHOD:PUBLISH
X-PUBLISHED-TTL:P3D
REFRESH-INTERVAL:P3D
CALSCALE:GREGORIAN
BEGIN:VEVENT
DTSTART:20190207T220000Z
DTEND:20190208T000000Z
X-MICROSOFT-CDO-ALLDAYEVENT:FALSE
SUMMARY:Sweet Wars
DESCRIPTION:Several of Central Florida's top senior care partners and providers are putting their baking skills to the test. And you're invited to sample and vote on their sweet creations! Funds raised will go to support the American Cancer Society.
X-ALT-DESC;FMTTYPE=text/html:<span style="color: rgb(29\, 33\, 41)\; font-family: helvetica\,arial\,sans-serif\; font-size: 14px\; background-color: rgb(255\, 255\, 255)\;">Several of Central Florida&rsquo\;s top senior care partners and providers are putting their baking skills to the test. And you&rsquo\;re invited to sample and vote on their sweet creations! Funds raised will go to support the American Cancer Society.</span>
LOCATION:Brookdale Lake Mary 150 Middle Street Lake Mary\, FL 32746
UID:e.2138.14924
SEQUENCE:3
DTSTAMP:20260424T103448Z
URL:https://business.seminolebusiness.org/events/details/sweet-wars-14924
END:VEVENT

END:VCALENDAR
