BEGIN:VCALENDAR
VERSION:2.0
PRODID:-//ChamberMaster//Event Calendar 2.0//EN
METHOD:PUBLISH
X-PUBLISHED-TTL:P3D
REFRESH-INTERVAL:P3D
CALSCALE:GREGORIAN
BEGIN:VEVENT
DTSTART:20230331T220000Z
DTEND:20230401T010000Z
X-MICROSOFT-CDO-ALLDAYEVENT:FALSE
SUMMARY:Swing Fore Independence
DESCRIPTION:Come Swing Fore... A Cause! Swing Fore Independence is present by Turner Construction and KMI International. The Center for Independent Living\, an organization promoting the independence of individuals with disability\, invites you to join us for an exciting evening of golf\, appetizers\, and networking with Central Florida's finest at Drive Shack in Lake Nona.\n\n\n\nProceeds from the event will help build ramps and provide much needed services for people living with disability in Central Florida.\n\n\n\nSupport a great cause and have fun doing it! Get your whole team involved through a bay sponsorship or simply purchase a ticket and join us.
X-ALT-DESC;FMTTYPE=text/html:Come Swing Fore... A Cause! <strong>Swing Fore Independence</strong> is present by Turner Construction and KMI International. The Center for Independent Living\, an organization promoting the independence of individuals with disability\, invites you to join us for an exciting evening of golf\, appetizers\, and networking with Central Florida&#39\;s finest at Drive Shack in Lake Nona.<br />\n<br />\n<em>Proceeds from the event will help build ramps and provide much needed services for people living with disability in Central Florida.</em><br />\n<br />\nSupport a great cause and have fun doing it! Get your whole team involved through a <strong>bay sponsorship</strong> or simply purchase a ticket and join us.
LOCATION:Drive Shack Orlando 7285 Corner Dr. Orlando\, FL 32827
UID:e.2138.31507
SEQUENCE:3
DTSTAMP:20260425T104815Z
URL:https://business.seminolebusiness.org/events/details/swing-fore-independence-31507
END:VEVENT

END:VCALENDAR
