BEGIN:VCALENDAR
VERSION:2.0
PRODID:-//ChamberMaster//Event Calendar 2.0//EN
METHOD:PUBLISH
X-PUBLISHED-TTL:P3D
REFRESH-INTERVAL:P3D
CALSCALE:GREGORIAN
BEGIN:VEVENT
DTSTART:20260211T230000Z
DTEND:20260212T020000Z
X-MICROSOFT-CDO-ALLDAYEVENT:FALSE
SUMMARY:Talk of the Town Round up Dinner supporting Rescue Outreach Mission
DESCRIPTION:Round Up for Rescue Outreach Mission\n\nJoin us for a special Round Up for Charity dinner benefiting Rescue Outreach Mission at FishBones in Lake Mary. Experience a 4-course dinner with wine for $125 per person. $50 goes back to Rescue Outreach Mission. Seating is limited\; book your tickets below.
X-ALT-DESC;FMTTYPE=text/html:<span style="color:rgb(8\, 8\, 9)\; font-family:segoe ui historic\,segoe ui\,helvetica\,arial\,sans-serif\; font-size:15px">Round Up for Rescue Outreach Mission</span><br />\n<span style="color:rgb(8\, 8\, 9)\; font-family:segoe ui historic\,segoe ui\,helvetica\,arial\,sans-serif\; font-size:15px">Join us for a special Round Up for Charity dinner benefiting Rescue Outreach Mission at FishBones in Lake Mary. Experience a 4-course dinner with wine for $125 per person. $50 goes back to Rescue Outreach Mission. Seating is limited\; book your tickets below.</span>
LOCATION:FishBones - Lake Mary 7005 County Rd 46A Lake Mary\, FL 32746
UID:e.2138.40010
SEQUENCE:3
DTSTAMP:20260420T083254Z
URL:https://business.seminolebusiness.org/events/details/talk-of-the-town-round-up-dinner-supporting-rescue-outreach-mission-40010
END:VEVENT

END:VCALENDAR
