BEGIN:VCALENDAR
VERSION:2.0
PRODID:-//ChamberMaster//Event Calendar 2.0//EN
METHOD:PUBLISH
X-PUBLISHED-TTL:P3D
REFRESH-INTERVAL:P3D
CALSCALE:GREGORIAN
BEGIN:VEVENT
DTSTART;VALUE=DATE:20160404
DTEND;VALUE=DATE:20160405
TRANSP:TRANSPARENT
X-MICROSOFT-CDO-ALLDAYEVENT:TRUE
SUMMARY:Taste of Lake Mary 2016
DESCRIPTION:The 11th Annual Taste of Lake Mary will be held on Monday April 4th\, 2016 from 5:30 pm\n\nto 8:00 pm. The event is held at the Park Place at Heathrow (adjacent to Marriott Lake Mary)\n\nin the lovely park area. This years event is sponsored by Florida Hospital ER Lake Mary.\n\nTicket\, Sponsorships\, and Information can be viewed at www.tasteoflakemary.com or call\n\n407-995-7013. Tickets are $45 per person or two for $85.\n\nAll Proceeds will be reinvested in Seminole County Charities.
X-ALT-DESC;FMTTYPE=text/html:The 11th Annual Taste of Lake Mary will be held on Monday April 4th\, 2016 from 5:30 pm<br />\nto 8:00 pm. The event is held at the Park Place at Heathrow (adjacent to Marriott Lake Mary)<br />\nin the lovely park area. This years event is sponsored by Florida Hospital ER Lake Mary.<br />\nTicket\, Sponsorships\, and Information can be viewed at www.tasteoflakemary.com or call<br />\n407-995-7013. Tickets are $45 per person or two for $85.<br />\nAll Proceeds will be reinvested in Seminole County Charities.&nbsp\;
LOCATION:1501 International Parkway\, Lake Mary Florida 32746
UID:e.2138.4310
SEQUENCE:3
DTSTAMP:20260426T013841Z
URL:https://business.seminolebusiness.org/events/details/taste-of-lake-mary-2016-04-04-2016-4310
END:VEVENT

END:VCALENDAR
