BEGIN:VCALENDAR
VERSION:2.0
PRODID:-//ChamberMaster//Event Calendar 2.0//EN
METHOD:PUBLISH
X-PUBLISHED-TTL:P3D
REFRESH-INTERVAL:P3D
CALSCALE:GREGORIAN
BEGIN:VEVENT
DTSTART:20180619T213000Z
DTEND:20180620T010000Z
X-MICROSOFT-CDO-ALLDAYEVENT:FALSE
SUMMARY:Tasty Tuesday's Food Truck Night
DESCRIPTION:Join us for Tasty Tuesday's Food Truck Night! We'll have Cousins Maine Lobster\, Cubano Kitchen\, and Smoke In The City plus drink specials!
X-ALT-DESC;FMTTYPE=text/html:Join us for Tasty Tuesday&#39\;s Food Truck Night! We&#39\;ll have Cousins Maine Lobster\, Cubano Kitchen\, and Smoke In The City plus drink specials!
LOCATION:Heathrow Country Club 1200 Bridgewater Dr\, Heathrow\, FL 32746
UID:e.2138.9427
SEQUENCE:3
DTSTAMP:20260424T083854Z
URL:https://business.seminolebusiness.org/events/details/tasty-tuesday-s-food-truck-night-9427
END:VEVENT

END:VCALENDAR
