BEGIN:VCALENDAR
VERSION:2.0
PRODID:-//ChamberMaster//Event Calendar 2.0//EN
METHOD:PUBLISH
X-PUBLISHED-TTL:P3D
REFRESH-INTERVAL:P3D
CALSCALE:GREGORIAN
BEGIN:VEVENT
DTSTART:20190912T153000Z
DTEND:20190912T173000Z
X-MICROSOFT-CDO-ALLDAYEVENT:FALSE
SUMMARY:TaylorWorks IT\, Cybersecurity Lunch & Learn
DESCRIPTION:Cybersecurity and the Day to Day Struggle for Business\n\n\n\n \nJoin us September 12\, 2019 for a great Lunch & Learn Event with Industry Leaders:\n\nLearn how to protect your business against Cyber Threats! Three industry experts will teach you about trends in the marketplace\, real world examples of hacks\, and most importantly how to prevent and protect your business from hackers.\n\n\n\n          Datto (World Leader in Backup\, Recovery and Business Continuity Solutions). \n\n          Whitehouse & Cooper (Business\, Technology\, and Intellectual Property Attorneys) \n\n          TaylorWorks Legal\, Medical and Business IT (Award Winning Technology \n\n           Consulting\, Managed Services and Security Provider). \n\n\n\nThere will be valuable information\, a delicious lunch\, swag bags and fantastic prizes!\n\n\n\nLimited Space Available - Register Today!\n\n*Restrictions Apply/Limit 2 persons per company\n\n \n\nSeptember 12\, 2019\n\n11:30am-1:30pm
X-ALT-DESC;FMTTYPE=text/html:<div style="text-align: center\;"><strong><u><span style="color:black"><span style="font-family:georgia\,serif"><span style="font-size:12.0pt">Cybersecurity and the Day to Day Struggle for Business</span></span></span></u></strong><br />\n<br />\n&nbsp\;</div>\n<span style="color:black"><span style="font-family:georgia\,serif"><span style="font-size:12.0pt">Join us September 12\, 2019 for a great Lunch &amp\; Learn Event with Industry Leaders:</span></span></span><br />\n<span style="color:black"><span style="font-family:georgia\,serif"><span style="font-size:12.0pt">Learn how to protect your business against Cyber Threats! Three industry experts will teach you about trends in the marketplace\, real world examples of hacks\, and most importantly how to prevent and protect your business from hackers.</span></span></span><br />\n<br />\n<span style="color:black"><span style="font-family:symbol"><span style="font-size:10.0pt">&middot\;</span></span></span>&nbsp\;&nbsp\;&nbsp\;&nbsp\;&nbsp\;&nbsp\;&nbsp\;&nbsp\; <strong><span style="color:black"><span style="font-family:georgia\,serif"><span style="font-size:12.0pt">Datto</span></span></span></strong><span style="color:black"><span style="font-family:georgia\,serif"><span style="font-size:12.0pt"> (World Leader in Backup\, Recovery and Business Continuity Solutions). </span></span></span><br />\n<span style="color:black"><span style="font-family:symbol"><span style="font-size:10.0pt">&middot\;</span></span></span>&nbsp\;&nbsp\;&nbsp\;&nbsp\;&nbsp\;&nbsp\;&nbsp\;&nbsp\; <strong><span style="color:black"><span style="font-family:georgia\,serif"><span style="font-size:12.0pt">Whitehouse &amp\; Cooper </span></span></span></strong><span style="color:black"><span style="font-family:georgia\,serif"><span style="font-size:12.0pt">(Business\, Technology\, and Intellectual Property Attorneys) </span></span></span><br />\n<span style="color:black"><span style="font-family:symbol"><span style="font-size:10.0pt">&middot\;</span></span></span>&nbsp\;&nbsp\;&nbsp\;&nbsp\;&nbsp\;&nbsp\;&nbsp\;&nbsp\; <strong><span style="color:black"><span style="font-family:georgia\,serif"><span style="font-size:12.0pt">TaylorWorks Legal\, Medical and Business IT</span></span></span></strong><span style="color:black"><span style="font-family:georgia\,serif"><span style="font-size:12.0pt"> (Award Winning Technology&nbsp\;<br />\n&nbsp\;&nbsp\;&nbsp\;&nbsp\;&nbsp\;&nbsp\;&nbsp\;&nbsp\;&nbsp\;&nbsp\; </span></span></span><span style="color:black"><span style="font-family:georgia\,serif"><span style="font-size:12.0pt">Consulting\, Managed Services and Security Provider). </span></span></span><br />\n<br />\n<span style="color:black"><span style="font-family:georgia\,serif"><span style="font-size:12.0pt">There will be valuable information\, a delicious lunch\, swag bags and fantastic prizes!</span></span></span><br />\n<br />\n<span style="color:black"><span style="font-family:georgia\,serif"><span style="font-size:12.0pt">Limited Space Available - <strong>Register Today</strong>!</span></span></span><br />\n<em><span style="color:black"><span style="font-family:georgia\,serif"><span style="font-size:11.5pt">*Restrictions Apply/Limit 2 persons per company</span></span></span></em><br />\n&nbsp\;<br />\n<strong><span style="color:black"><span style="font-family:georgia\,serif"><span style="font-size:13.5pt">September 12\, 2019</span></span></span></strong><br />\n<strong><span style="color:black"><span style="font-family:georgia\,serif"><span style="font-size:12.0pt">11:30am-1:30pm</span></span></span></strong>\n\n<table border="0" cellpadding="0" cellspacing="0" style="border-collapse:collapse\; width:100.0%">\n	<tbody>\n		<tr>\n			<td style="vertical-align:top">\n			<table align="left" border="0" cellpadding="0" cellspacing="0" style="border-collapse:collapse\; margin-left:-2.25pt\; margin-right:-2.25pt\; width:100.0%">\n				<tbody>\n					<tr>\n						<td style="vertical-align:top">&nbsp\;</td>\n					</tr>\n				</tbody>\n			</table>\n			</td>\n		</tr>\n	</tbody>\n</table>\n
LOCATION:999 Douglas Avenue Altamonte Springs\, FL 32714 -Please go to www.taylorworks.net for registration information and details.
UID:e.2138.15184
SEQUENCE:3
DTSTAMP:20260422T021433Z
URL:https://business.seminolebusiness.org/events/details/taylorworks-it-cybersecurity-lunch-learn-15184
END:VEVENT

END:VCALENDAR
