BEGIN:VCALENDAR
VERSION:2.0
PRODID:-//ChamberMaster//Event Calendar 2.0//EN
METHOD:PUBLISH
X-PUBLISHED-TTL:P3D
REFRESH-INTERVAL:P3D
CALSCALE:GREGORIAN
BEGIN:VEVENT
DTSTART:20170304T140000Z
DTEND:20170304T190000Z
X-MICROSOFT-CDO-ALLDAYEVENT:FALSE
SUMMARY:Teacher Recruitment Fair for Seminole County Public Schools
DESCRIPTION:Join Seminole County Public Schools as they recruit teachers from all across the state of Florida!\n\nAll 67 Seminole County schools will have a table set up for applicants to visit and interviews will be conducted on-site. Up to 600 applicants are expected to attend. District leaders\, Teachers of the Year and students will be assisting and mingling with applicants and vendors.\n\nSeminole County Public Schools is looking for business partners to set up vendor booths to offer information and resources to these potential teachers.\n\nMany of these applicants will be new to the area so we want show them that Seminole is not only a great place to work\, but it?s a community in which you want to live. We hope to showcase all Seminole County has to offer when it comes to shopping\, leasing or buying a home\, banking\, investing\, healthcare\, entertainment\, gyms\, fitness clubs\, higher education and more.
X-ALT-DESC;FMTTYPE=text/html:<p><strong>Join Seminole County Public Schools as they recruit teachers from all across the state of Florida!</strong></p>\n\n<p>All 67 Seminole County schools will have a table set up for applicants to visit and interviews will be conducted on-site. Up to 600 applicants are expected to attend.&nbsp\;District leaders\, Teachers of the Year and students will be assisting and mingling with applicants and vendors.</p>\n\n<p>Seminole County Public Schools is&nbsp\;looking for business partners to set up vendor booths to offer information and resources to these potential teachers.</p>\n\n<p>Many of these applicants will be new to the area so&nbsp\;we want show them&nbsp\;that Seminole is not only a great place to work\, but it?s a community in which you want to live. We hope to showcase all Seminole County has to offer when it comes to shopping\, leasing or buying a home\, banking\, investing\, healthcare\, entertainment\, gyms\, fitness clubs\, higher education and more.</p>\n
LOCATION:Lyman High School Gym 4200 Dike Road Winter Park\, FL
UID:e.2138.6457
SEQUENCE:3
DTSTAMP:20260423T175945Z
URL:https://business.seminolebusiness.org/events/details/teacher-recruitment-fair-for-seminole-county-public-schools-6457
END:VEVENT

END:VCALENDAR
