BEGIN:VCALENDAR
VERSION:2.0
PRODID:-//ChamberMaster//Event Calendar 2.0//EN
METHOD:PUBLISH
X-PUBLISHED-TTL:P3D
REFRESH-INTERVAL:P3D
CALSCALE:GREGORIAN
BEGIN:VEVENT
DTSTART;VALUE=DATE:20190807
DTEND;VALUE=DATE:20190808
TRANSP:TRANSPARENT
X-MICROSOFT-CDO-ALLDAYEVENT:TRUE
SUMMARY:Team Trivia every Wednesday!
DESCRIPTION:Wanna win FREE DRINKS and GIFT CARDS? Join us for our weekly Team Trivia Night at the Red-Eye Sports Tavern every WEDNESDAY starting at 7pm for your chance!\n\n\n\nTest your knowledge against our four trivia packed categories loaded with bonus points\, special questions\, and ending with our Majority Rules opinion based question!
X-ALT-DESC;FMTTYPE=text/html:<span style="background-color:rgb(255\, 255\, 255)\; color:rgb(29\, 33\, 41)\; font-family:helvetica\,arial\,sans-serif\; font-size:14px">Wanna win FREE DRINKS and GIFT CARDS? Join us for our weekly Team Trivia Night at the Red-Eye Sports Tavern every WEDNESDAY starting at 7pm for your chance!</span><br />\n<br />\n<span style="background-color:rgb(255\, 255\, 255)\; color:rgb(29\, 33\, 41)\; font-family:helvetica\,arial\,sans-serif\; font-size:14px">Test your knowledge against our four trivia packed categories loaded with bonus points\, special questions\, and ending with our Majority Rules opinion based question!</span>
LOCATION:Villaggio Plaza 855 E Sr 434 Winter Springs FL\, 32708
UID:e.2138.16396
SEQUENCE:3
DTSTAMP:20260422T034347Z
URL:https://business.seminolebusiness.org/events/details/team-trivia-every-wednesday-16396
END:VEVENT

END:VCALENDAR
