BEGIN:VCALENDAR
VERSION:2.0
PRODID:-//ChamberMaster//Event Calendar 2.0//EN
METHOD:PUBLISH
X-PUBLISHED-TTL:P3D
REFRESH-INTERVAL:P3D
CALSCALE:GREGORIAN
BEGIN:VEVENT
DTSTART:20180328T190000Z
DTEND:20180328T230000Z
X-MICROSOFT-CDO-ALLDAYEVENT:FALSE
SUMMARY:Technology Showcase & 35th Anniversary Open House
DESCRIPTION:Join us March 28th\n\nLearn about new technology solutions\n\nand celebrate with us as we enter into our 35th year.\n\n3pm to 5pm - Business Solutions Sessions\n\nBusiness focused sessions on specific technologies that will help your company grow\, cut costs and protect it as well.\n\nTOPICS:\n\n\n	Electronic records management and work flow solutions with GlobalCapture by Square-9\n	Print management and cost recovery solutions by PaperCut\n	Securing your entire network in todays ever changing world of threats and crypto viruses by Sophos\n\n\n5pm to 7pm - Cocktail Party and Open House\n\nMeet our amazing staff and browse our solutions showroom all while enjoying cocktails\, hors d'oeuvre and live music!\n\nThere will be prizes!\n\nPrizes to be given away during the technology sessions\, plus other drawings for prizes during the cocktail party.\n\nPlease RSVP via http://sostechshow.eventbrite.com or call 407-830-7950.
X-ALT-DESC;FMTTYPE=text/html:<h2 style="text-align: center\;"><span style="color: rgb(51\, 51\, 153)\; font-size: x-large\;"><strong>Join us March 28th</strong></span></h2>\n\n<p style="text-align: center\;"><span style="color: rgb(51\, 51\, 153)\; font-size: medium\;"><strong>Learn about new technology solutions</strong></span><br />\n<span style="color: rgb(51\, 51\, 153)\; font-size: medium\;"><strong>and celebrate with us as we enter into our 35th year.</strong></span></p>\n\n<p><span style="font-size: large\;"><strong><span style="color: rgb(51\, 153\, 102)\;">3pm to 5pm -&nbsp\;</span></strong></span><span style="font-size: small\;"><span style="color: rgb(51\, 153\, 102)\; font-size: medium\;"><strong>Business Solutions Sessions</strong></span></span></p>\n\n<p><span style="font-size: small\;">Business focused sessions on specific technologies that will help your company grow\, cut costs and protect it as well.</span></p>\n\n<p><span style="color: rgb(255\, 255\, 255)\; font-size: large\; background-color: rgb(51\, 153\, 102)\;"><strong>TOPICS:</strong></span></p>\n\n<ul>\n	<li><span style="font-size: small\;">Electronic records management and work flow solutions with GlobalCapture by&nbsp\;<strong><span style="color: rgb(51\, 153\, 102)\;">Square-9</span></strong></span></li>\n	<li><span style="font-size: small\;">Print management and cost recovery solutions by&nbsp\;<span style="color: rgb(51\, 153\, 102)\;"><strong>PaperCut</strong></span></span></li>\n	<li><span style="font-size: small\;">Securing your entire network in todays ever changing world of threats and crypto viruses by&nbsp\;<span style="color: rgb(51\, 153\, 102)\;"><strong>Sophos</strong></span></span></li>\n</ul>\n\n<p><span style="color: rgb(51\, 153\, 102)\; font-size: large\;"><strong>5pm to 7pm -&nbsp\;Cocktail Party and Open House</strong></span></p>\n\n<p><span style="font-size: small\;">Meet our amazing staff and browse our solutions showroom all while enjoying cocktails\, hors d&#39\;oeuvre and live music!</span></p>\n\n<p style="text-align: center\;"><strong><span style="color: rgb(51\, 153\, 102)\; font-size: large\;">There will be prizes!</span></strong></p>\n\n<p><span style="font-size: small\;">Prizes to be given away during the technology sessions\, plus other drawings for prizes during the cocktail party.</span></p>\n\n<p style="text-align: center\;"><strong><span style="color: rgb(0\, 0\, 128)\; font-size: medium\;">Please RSVP via http://sostechshow.eventbrite.com or call 407-830-7950.</span></strong></p>\n
LOCATION:Seminole Office Solutions - Technology Showroom and Warehouse 762 Big Tree Drive\, Longwood\, FL 32750
UID:e.2138.8812
SEQUENCE:3
DTSTAMP:20260424T130128Z
URL:https://business.seminolebusiness.org/events/details/technology-showcase-35th-anniversary-open-house-8812
END:VEVENT

END:VCALENDAR
