BEGIN:VCALENDAR
VERSION:2.0
PRODID:-//ChamberMaster//Event Calendar 2.0//EN
METHOD:PUBLISH
X-PUBLISHED-TTL:P3D
REFRESH-INTERVAL:P3D
CALSCALE:GREGORIAN
BEGIN:VEVENT
DTSTART:20190815T200000Z
DTEND:20190815T230000Z
X-MICROSOFT-CDO-ALLDAYEVENT:FALSE
SUMMARY:Teen Takover
DESCRIPTION:Join us at Midflorida Credit Union in Altamonte Springs for a night of Games\, Free Pizza\, Free Drinks & Prizes!!  Plus learn how you and your Friends can earn some EXTRA DOUGH!
X-ALT-DESC;FMTTYPE=text/html:Join us at Midflorida Credit Union in Altamonte Springs for a night of Games\, Free Pizza\, Free Drinks &amp\; Prizes!!&nbsp\; Plus learn how you&nbsp\;and your Friends can earn some EXTRA DOUGH!
LOCATION:1199 Spring Centre South Blvd\, Altamonte Springs FL 32714
UID:e.2138.16225
SEQUENCE:3
DTSTAMP:20260422T051433Z
URL:https://business.seminolebusiness.org/events/details/teen-takover-16225
END:VEVENT

END:VCALENDAR
