BEGIN:VCALENDAR
VERSION:2.0
PRODID:-//ChamberMaster//Event Calendar 2.0//EN
METHOD:PUBLISH
X-PUBLISHED-TTL:P3D
REFRESH-INTERVAL:P3D
CALSCALE:GREGORIAN
BEGIN:VEVENT
DTSTART:20161121T140000Z
DTEND:20161123T200000Z
X-MICROSOFT-CDO-ALLDAYEVENT:FALSE
SUMMARY:Thanksgiving Break Learn to Skate Camp
DESCRIPTION:Learn to Skate Camp is for youth ages 6 and up and includes private class instruction\, flexibility class\, on and off-ice games\, and supervised public skating time. Camp is from 9:00 am to 3:00 pm daily and costs $60 daily. Please bring a bag lunch for your camper!
X-ALT-DESC;FMTTYPE=text/html:Learn to Skate Camp is for youth ages 6 and up and includes private class instruction\, flexibility class\, on and off-ice games\, and supervised public skating time. Camp is from 9:00 am to 3:00 pm daily and costs $60 daily. Please bring a bag lunch for your camper!
LOCATION:RDV Sportsplex Ice Den 8701 Maitland Summit Blvd. Orlando\, FL 32810
UID:e.2138.5748
SEQUENCE:3
DTSTAMP:20260425T150318Z
URL:https://business.seminolebusiness.org/events/details/thanksgiving-break-learn-to-skate-camp-5748
END:VEVENT

END:VCALENDAR
