BEGIN:VCALENDAR
VERSION:2.0
PRODID:-//ChamberMaster//Event Calendar 2.0//EN
METHOD:PUBLISH
X-PUBLISHED-TTL:P3D
REFRESH-INTERVAL:P3D
CALSCALE:GREGORIAN
BEGIN:VEVENT
DTSTART:20160305T230000Z
DTEND:20160306T040000Z
X-MICROSOFT-CDO-ALLDAYEVENT:FALSE
SUMMARY:"That's Amore" Presented by Heathrow Women's Club Charities\, Inc. and Geico
DESCRIPTION:The theme of the evening's festivities is "That's Amore" featuring the "Back to the Dean Martin Show" by Tribute Artist Felix J. Deneau\, Jr.  In addition\, guests will be treated to a sumptuous Italian Dinner Buffet\, Dancing to the music of Eric Taylor\, a Silent Auction and more.  Emcee for the evening is Bud Hedinger of WFLA Radio.  Over the past 27 years\, the Club has donated more than $1 Million in donations and services to better our community by giving to deserving organizations.  All proceeds will benefit:  Bags of Hope Central Florida\; Boys & Girls Club of Central Florida\, W. Sanford Branch\; SafeHouse of Seminole\; and Women's & Girls' Cancer Alliance.  The event is open to all.  Cocktail Attire is suggested.  Cost is $100 per person and 100% of the proceeds benefit our charities.  For tickets\, contact Ellen Yeaser at eyeaserhwc@aol.com or call 407-491-8302.
X-ALT-DESC;FMTTYPE=text/html:<span style="font-size:medium"><span style="font-family:calibri">The theme of the evening&rsquo\;s festivities is &ldquo\;That&rsquo\;s Amore&rdquo\; featuring the &ldquo\;Back to the Dean Martin Show&rdquo\; by Tribute Artist Felix J. Deneau\, Jr.&nbsp\; In addition\, guests will be treated to a sumptuous Italian Dinner Buffet\, Dancing to the music of Eric Taylor\, a Silent Auction and more.&nbsp\; Emcee for the evening is Bud Hedinger of WFLA Radio.&nbsp\; Over the past 27 years\, the Club has donated more than $1 Million in donations and services to better our community by giving to deserving organizations.&nbsp\; All proceeds will benefit:&nbsp\; Bags of Hope Central Florida\; Boys &amp\; Girls Club of Central Florida\, W. Sanford Branch\; SafeHouse of Seminole\; and Women&rsquo\;s &amp\; Girls&rsquo\; Cancer Alliance.&nbsp\; The event is open to all.&nbsp\; Cocktail Attire is suggested.&nbsp\; Cost is $100 per person and 100% of the proceeds benefit our charities.&nbsp\; For tickets\, contact Ellen Yeaser at </span></span><a href="mailto:eyeaserhwc@aol.com"><span style="font-size:medium"><span style="font-family:times new roman"><span style="color:rgb(0\, 0\, 255)">eyeaserhwc@aol.com</span></span></span></a><span style="font-size:medium"><span style="font-family:calibri"> or call 407-491-8302.</span></span><br />\n&nbsp\;
LOCATION:Orlando Marriott Lake Mary\, 1501 International Parkway\, Lake Mary FL
UID:e.2138.4342
SEQUENCE:3
DTSTAMP:20260426T031527Z
URL:https://business.seminolebusiness.org/events/details/that-s-amore-presented-by-heathrow-women-s-club-charities-inc-and-geico-03-05-2016-4342
END:VEVENT

END:VCALENDAR
