BEGIN:VCALENDAR
VERSION:2.0
PRODID:-//ChamberMaster//Event Calendar 2.0//EN
METHOD:PUBLISH
X-PUBLISHED-TTL:P3D
REFRESH-INTERVAL:P3D
CALSCALE:GREGORIAN
BEGIN:VEVENT
DTSTART:20251021T220000Z
DTEND:20251022T000000Z
X-MICROSOFT-CDO-ALLDAYEVENT:FALSE
SUMMARY:The AI Toolkit for Business Leaders
DESCRIPTION:You don't need to master every tool\; you just need to know what's possible.\n\n\n\nJoin us for a guided tour of practical\, jaw-dropping tools you can use today. We'll share a few of the best AI tools for:\n\n  Communication & Content\n\n  Marketing & Creativity\n\n  Organization & Productivity\n\n  Strategy & Insights\n\n\n\nDon't get left behind. Register now and transform your marketing in just one session.
X-ALT-DESC;FMTTYPE=text/html:You don&rsquo\;t need to master every tool\; you just need to know what&rsquo\;s possible.<br />\n<br />\nJoin us for a guided tour of practical\, jaw-dropping tools you can use today. We&rsquo\;ll share a few of the best AI tools for:<br />\n&bull\; Communication &amp\; Content<br />\n&bull\; Marketing &amp\; Creativity<br />\n&bull\; Organization &amp\; Productivity<br />\n&bull\; Strategy &amp\; Insights<br />\n<br />\nDon&rsquo\;t get left behind. Register now and transform your marketing in just one session.
LOCATION:Winter Park Library 1031 W. Morse Blvd. Winter Park\, FL 32789
UID:e.2138.38739
SEQUENCE:3
DTSTAMP:20260423T053653Z
URL:https://business.seminolebusiness.org/events/details/the-ai-toolkit-for-business-leaders-38739
END:VEVENT

END:VCALENDAR
