BEGIN:VCALENDAR
VERSION:2.0
PRODID:-//ChamberMaster//Event Calendar 2.0//EN
METHOD:PUBLISH
X-PUBLISHED-TTL:P3D
REFRESH-INTERVAL:P3D
CALSCALE:GREGORIAN
BEGIN:VEVENT
DTSTART:20161030T010000Z
DTEND:20161030T050000Z
X-MICROSOFT-CDO-ALLDAYEVENT:FALSE
SUMMARY:The Black Hammock Lazy Gator Bar - Halloween Party
DESCRIPTION:Join Us for the Black Hammock Lazy Gator Halloween Party on\n\nSaturday\, October 29\, 2016 from 9 pm -1 am\n\nCostume Contest with Prizes for 1st\, 2nd & 3rd \n\nSpooky Drink Specials\n\nRaffle Prizes\n\nLive Music from Spitfire and More!
X-ALT-DESC;FMTTYPE=text/html:<div style="text-align:center">Join Us for the Black Hammock Lazy Gator Halloween Party on<br />\nSaturday\, October 29\, 2016 from 9 pm -1 am<br />\nCostume Contest with&nbsp\;Prizes for 1st\, 2nd &amp\; 3rd&nbsp\;<br />\nSpooky Drink Specials<br />\nRaffle Prizes<br />\nLive Music from Spitfire and More!&nbsp\;</div>\n
LOCATION:Black Hammock - Lazy Gator 2316 Black Hammock Fish Camp Rd Oviedo\, FL 32765
UID:e.2138.5719
SEQUENCE:3
DTSTAMP:20260425T164859Z
URL:https://business.seminolebusiness.org/events/details/the-black-hammock-lazy-gator-bar-halloween-party-5719
END:VEVENT

END:VCALENDAR
