BEGIN:VCALENDAR
VERSION:2.0
PRODID:-//ChamberMaster//Event Calendar 2.0//EN
METHOD:PUBLISH
X-PUBLISHED-TTL:P3D
REFRESH-INTERVAL:P3D
CALSCALE:GREGORIAN
BEGIN:VEVENT
DTSTART:20180411T140000Z
DTEND:20180411T160000Z
X-MICROSOFT-CDO-ALLDAYEVENT:FALSE
SUMMARY:The Closing Agent's Monthly Realtor CE Class
DESCRIPTION:Course Description: \n An in-depth overview of the Florida Realtors Commercial Contract\, when to use it and when to procure an attorney-drafted commercial sales contract. \n\n This course will aim to instruct real estate agents on the differences between Residential Real Estate sales and Commercial Real Estate sales\, including commission differences (lien rights)\, closing differences and what challenges they may face. \n\n Also included will be a discussion on different types of financing available for Commercial Real Estate transactions\, the Florida Real Estate Sales Commission Lien Act.   \n\n A review of the different types of commercial transactions: vacant tract land\, buildings\, industrial land\, and sales of businesses.
X-ALT-DESC;FMTTYPE=text/html:<span style="font-size:18px"><u><strong><span style="font-family:centaur">Course Description: </span></strong></u></span>\n<div style="margin-left:0.31in"><span style="font-size:18px"><span style="font-family:arial">&bull\;</span><span style="font-family:gill sans mt">An in-depth overview of the Florida Realtors Commercial Contract\, when to use it and when to procure an attorney-drafted commercial sales contract. </span></span></div>\n\n<div style="margin-left:0.31in"><span style="font-size:18px"><span style="font-family:arial">&bull\;</span><span style="font-family:gill sans mt">This course will aim to instruct real estate agents on the differences between Residential Real Estate sales and Commercial Real Estate sales\, including commission differences (lien rights)\, closing differences and what challenges they may face. </span></span></div>\n\n<div style="margin-left:0.31in"><span style="font-size:18px"><span style="font-family:arial">&bull\;</span><span style="font-family:gill sans mt">Also </span><span style="font-family:gill sans mt">included will be a discussion on different types of financing available for Commercial Real Estate transactions\, the Florida Real Estate Sales Commission Lien Act.&nbsp\; </span>&nbsp\;</span></div>\n\n<div style="margin-left:0.31in"><span style="font-size:18px"><span style="font-family:arial">&bull\;</span><span style="font-family:gill sans mt">A review of the different types of commercial transactions: vacant tract land\, buildings\, industrial land\, and sales of businesses. &nbsp\;&nbsp\;</span></span></div>\n
LOCATION:The Closing Agent 1150 Douglas Ave. Suite 1080 Altamonte Springs\, FL 32714
UID:e.2138.8775
SEQUENCE:3
DTSTAMP:20260424T120353Z
URL:https://business.seminolebusiness.org/events/details/the-closing-agent-s-monthly-realtor-ce-class-04-11-2018-8775
END:VEVENT

END:VCALENDAR
