BEGIN:VCALENDAR
VERSION:2.0
PRODID:-//ChamberMaster//Event Calendar 2.0//EN
METHOD:PUBLISH
X-PUBLISHED-TTL:P3D
REFRESH-INTERVAL:P3D
CALSCALE:GREGORIAN
BEGIN:VEVENT
DTSTART:20180530T140000Z
DTEND:20180530T160000Z
X-MICROSOFT-CDO-ALLDAYEVENT:FALSE
SUMMARY:The Empowered Caregiver: The Caregiving Years Stages 1 and 2
DESCRIPTION:FREE event for CAREGIVERS\, PROFESSIONALS WORKING WITH SENIORS\, and THOSE WHO WOULD LIKE TO KNOW HOW TO PREPARE FOR A HEALTH CARE CRISIS (possibly your own!)      Presenter: Toni Gitles\, Heart Light Enterprises\, LLC\, Certified Caregiving Consultant and Educator   \n\nLearn how to become an EMPOWERED CAREGIVER as I detail\n\nThe Caregiving Years: Stages One and Two  Wednesday\, May 30\, 2018 at 10:00 a.m.-12 noon\n\n\n\n\n\nStage One: You suspect a family member is going to need some assistance because of aging or health issues. Your SuperPower is gathering information and preparation. Stage Two: You are frequently giving your time with activities such as taking the individual to doctor appointments\, running errands\, helping with medication management and possibly even some hands-on caring. Your SuperPower is finding resources.\n\n \n\nPlease RSVP to Tiffany at the Law Firm of Hoyt & Bryan 407-977-8080  or  tiffany@hoytbryan.com\n\nFor more event details\, check out the link below https://hoytbryan.com/one-senior-place-workshop/
X-ALT-DESC;FMTTYPE=text/html:<span style="font-family: arial\,sans-serif\;"><span style="font-size: 12pt\;">FREE event for CAREGIVERS\, PROFESSIONALS WORKING WITH SENIORS\, and THOSE WHO WOULD LIKE TO KNOW HOW TO PREPARE FOR A HEALTH CARE CRISIS (possibly your own!)</span></span><span style="font-family: arial\,sans-serif\;"><span style="font-size: 12pt\;">&nbsp\;&nbsp\;&nbsp\;&nbsp\;&nbsp\; Presenter: Toni Gitles\, Heart Light Enterprises\, LLC\, Certified Caregiving Consultant and Educator &trade\; </span></span><br />\n<strong><span style="font-family: arial\,sans-serif\;"><span style="font-size: 12pt\;">Learn how to become an EMPOWERED CAREGIVER as I detail</span></span></strong><br />\n<strong><u><span style="font-family: arial\,sans-serif\;"><span style="font-size: 12pt\;">The Caregiving Years: Stages One and Two&nbsp\; </span></span></u></strong><span style="font-family: arial\,sans-serif\;"><span style="font-size: 12pt\;">Wednesday\, May 30\, 2018 at 10:00 a.m.-12 noon</span></span><br />\n<br />\n<br />\n<strong><u><span style="font-family: arial\,sans-serif\;"><span style="font-size: 12pt\;">Stage One</span></span></u></strong><span style="font-family: arial\,sans-serif\;"><span style="font-size: 12pt\;">: You suspect a family member is going to need some assistance because of aging or health issues. Your <strong>SuperPower</strong> is gathering information and preparation. <strong><u>Stage Two</u></strong>: You are frequently giving your time with activities such as taking the individual to doctor appointments\, running errands\, helping with medication management and possibly even some hands-on caring. Your <strong>SuperPower</strong> is finding resources.</span></span><br />\n&nbsp\;<br />\n<span style="font-family: arial\,sans-serif\;">Please RSVP to Tiffany at the Law Firm of Hoyt &amp\; Bryan 407-977-8080&nbsp\; or&nbsp\; <a href="mailto:tiffany@hoytbryan.com" style="color: blue\; text-decoration: underline\;" target="_blank">tiffany@hoytbryan.com</a></span><br />\n<span style="font-family: arial\,sans-serif\;">For more event details\, check out the link below <a href="https://hoytbryan.com/one-senior-place-workshop/" style="color: blue\; text-decoration: underline\;" target="_blank">https://hoytbryan.com/one-senior-place-workshop/</a></span><br />\n&nbsp\;
LOCATION:One Senior Place 715 Douglas Avenue\, Altamonte Springs\, FL 32714
UID:e.2138.9413
SEQUENCE:3
DTSTAMP:20260424T103728Z
URL:https://business.seminolebusiness.org/events/details/the-empowered-caregiver-the-caregiving-years-stages-1-and-2-9413
END:VEVENT

END:VCALENDAR
