BEGIN:VCALENDAR
VERSION:2.0
PRODID:-//ChamberMaster//Event Calendar 2.0//EN
METHOD:PUBLISH
X-PUBLISHED-TTL:P3D
REFRESH-INTERVAL:P3D
CALSCALE:GREGORIAN
BEGIN:VEVENT
DTSTART:20161019T153000Z
DTEND:20161019T170000Z
X-MICROSOFT-CDO-ALLDAYEVENT:FALSE
SUMMARY:The Essential Sales Manager Checklist
DESCRIPTION:THE ESSENTIAL SALES MANAGER CHECKLIST\n\nSponsored by Rory Swindell and Pro-Tech Air Conditioning and Plumbing\n\n\n	Tired of accepting excuses for your sales team's poor production and results?\n	Concerned about the "underachievers" on your team who could sell during good times but struggle during bad times?\n	Frustrated about wasting time and money hiring salespeople who never seem to work out?\n	Angry that your salespeople aren't accountable for their own behavior?\n	Confused about the first thing to effectively managing your people?\n\nAt this lunch and learn\, facilitated by Sandler Training's Paul Castaneda\, you will discover how to:\n\n\n	Determine if your team is even capable of hitting your goals\n	Develop and implement coaching plans for your people\n	Properly supervise and motivate your sales team\n	Establish a profile for identifying and hiring "winners"\n	Avoid being held hostage by "underachievers"\n\n\n\nIf you're willing to implement change that will have lasting\, positive results\, then please join us for our next lunch and learn on "The Essential Sales Manager Checklist."
X-ALT-DESC;FMTTYPE=text/html:<div style="text-align:center"><span style="font-size:26px"><u>THE ESSENTIAL SALES MANAGER CHECKLIST</u></span></div>\n\n<div style="text-align:center"><span style="font-size:20px"><span style="font-size:16px"><em>Sponsored by Rory Swindell and Pro-Tech Air Conditioning and Plumbing</em></span></span></div>\n\n<ul>\n	<li><strong>Tired of accepting excuses</strong> for your sales team&rsquo\;s poor production and results?</li>\n	<li>Concerned about the <strong>&ldquo\;underachievers&rdquo\; on your team</strong> who could sell during good times but struggle during bad times?</li>\n	<li>Frustrated about <strong>wasting time and money hiring salespeople</strong> who never seem to work out?</li>\n	<li>Angry that your <strong>salespeople aren&rsquo\;t accountable</strong> for their own behavior?</li>\n	<li><strong>Confused</strong> about the first thing to effectively managing your people?</li>\n</ul>\n<em>At this lunch and learn\, facilitated by Sandler Training&#39\;s Paul Castaneda\, you will discover how to:</em>\n\n<ul>\n	<li>Determine if your team is even capable of hitting your goals</li>\n	<li>Develop and implement coaching plans for your people</li>\n	<li>Properly supervise and motivate your sales team</li>\n	<li>Establish a profile for identifying and hiring &ldquo\;winners&rdquo\;</li>\n	<li>Avoid being held hostage by &ldquo\;underachievers&rdquo\;</li>\n</ul>\n<br />\n<span style="font-size:20px">If you&#39\;re willing to implement change that will have lasting\, positive results\, then please join us for our next lunch and learn on &quot\;The Essential Sales Manager Checklist.&quot\;</span>
LOCATION:Sandler Training 650 S. Northlake Blvd\, Suite 430 Altamonte Springs\, FL 32701
UID:e.2138.4900
SEQUENCE:3
DTSTAMP:20260425T164716Z
URL:https://business.seminolebusiness.org/events/details/the-essential-sales-manager-checklist-4900
END:VEVENT

END:VCALENDAR
