BEGIN:VCALENDAR
VERSION:2.0
PRODID:-//ChamberMaster//Event Calendar 2.0//EN
METHOD:PUBLISH
X-PUBLISHED-TTL:P3D
REFRESH-INTERVAL:P3D
CALSCALE:GREGORIAN
BEGIN:VEVENT
DTSTART:20181011T210000Z
DTEND:20181011T230000Z
X-MICROSOFT-CDO-ALLDAYEVENT:FALSE
SUMMARY:The Flavor Of Fall Party
DESCRIPTION:Come enjoy the flavor of fall and indulge in the taste of Thanksgiving! We will also be giving free chair massages and free nutrition scans ALL NIGHT LONG! Bring the whole family out to experience the Flavor of Fall and learn how you can start a new journey into true health this upcoming holiday season!
X-ALT-DESC;FMTTYPE=text/html:<span style="color: rgb(0\, 0\, 0)\; font-family: poppins\,helvetica\,sans-serif\; font-size: 16px\;">Come enjoy the flavor of fall and indulge in the taste of Thanksgiving! We will also be giving free chair massages and free nutrition scans ALL NIGHT LONG! Bring the whole family out to experience the Flavor of Fall and learn how you can start a new journey into true health this upcoming holiday season!</span>
LOCATION:Palmer Natural Health 135 West Pine Ave Longwood\, Florida 32750
UID:e.2138.14781
SEQUENCE:3
DTSTAMP:20260424T023215Z
URL:https://business.seminolebusiness.org/events/details/the-flavor-of-fall-party-14781
END:VEVENT

END:VCALENDAR
