BEGIN:VCALENDAR
VERSION:2.0
PRODID:-//ChamberMaster//Event Calendar 2.0//EN
METHOD:PUBLISH
X-PUBLISHED-TTL:P3D
REFRESH-INTERVAL:P3D
CALSCALE:GREGORIAN
BEGIN:VEVENT
DTSTART:20190606T210000Z
DTEND:20190606T230000Z
X-MICROSOFT-CDO-ALLDAYEVENT:FALSE
SUMMARY:The Law Firm of ForsterBoughman and BB&T Wealth host their End of Spring Celebration at Mesa21 Lake Ivanhoe
DESCRIPTION:The Law Firm of ForsterBoughman and BB&T Wealth invite you to join them for their End of Spring Celebration at Mesa21 Lake Ivanhoe.  This is a Happy Hour event organized to allow you to meet the ForsterBoughman Attorneys and the BB&T Wealth Team.  Complimentary Cocktails & Hors d'oeuvres will be provided.
X-ALT-DESC;FMTTYPE=text/html:The Law Firm of ForsterBoughman and BB&amp\;T Wealth invite you to join them for their End of Spring Celebration at Mesa21 Lake Ivanhoe.&nbsp\; This is a Happy Hour event organized to allow you to meet the ForsterBoughman Attorneys and the BB&amp\;T Wealth Team.&nbsp\;&nbsp\;Complimentary Cocktails &amp\; Hors d&#39\;oeuvres will be provided.
LOCATION:Mesa 21 Lake Ivanhoe 1414 North Orange Ave. Orlando\, Florida 32804
UID:e.2138.15165
SEQUENCE:3
DTSTAMP:20260422T063601Z
URL:https://business.seminolebusiness.org/events/details/the-law-firm-of-forsterboughman-and-bb-t-wealth-host-their-end-of-spring-celebration-at-mesa21-lake-ivanhoe-15165
END:VEVENT

END:VCALENDAR
