BEGIN:VCALENDAR
VERSION:2.0
PRODID:-//ChamberMaster//Event Calendar 2.0//EN
METHOD:PUBLISH
X-PUBLISHED-TTL:P3D
REFRESH-INTERVAL:P3D
CALSCALE:GREGORIAN
BEGIN:VEVENT
DTSTART:20190628T230000Z
DTEND:20190629T010000Z
X-MICROSOFT-CDO-ALLDAYEVENT:FALSE
SUMMARY:The Office Trivia Night
DESCRIPTION:We are heading back to our favorite paper company in PA for this trivia night. Find out how well you know everyone around The Office!
X-ALT-DESC;FMTTYPE=text/html:<span style="color:rgb(29\, 33\, 41)\; font-family:system-ui\,-apple-system\,system-ui\,.sfnstext-regular\,sans-serif\; font-size:14px">We are heading back to our favorite paper company in PA for this trivia night. Find out how well you know everyone around The Office! </span>
LOCATION:Boston Coffeehouse Altamonte Springs 851 S SR 434 Altamonte Springs\, FL 32714
UID:e.2138.15193
SEQUENCE:3
DTSTAMP:20260422T063113Z
URL:https://business.seminolebusiness.org/events/details/the-office-trivia-night-15193
END:VEVENT

END:VCALENDAR
