BEGIN:VCALENDAR
VERSION:2.0
PRODID:-//ChamberMaster//Event Calendar 2.0//EN
METHOD:PUBLISH
X-PUBLISHED-TTL:P3D
REFRESH-INTERVAL:P3D
CALSCALE:GREGORIAN
BEGIN:VEVENT
DTSTART:20161120T000000Z
DTEND:20161120T040000Z
X-MICROSOFT-CDO-ALLDAYEVENT:FALSE
SUMMARY:The Power Event LIVE! benefitting IMPOWER
DESCRIPTION:Experience the red carpet treatment and enjoy the high-octane thrills at this unique progressive gala staged inside 3 private aircraft hangars.  Mingle among the world's most exotic cars\, planes and boats\, enjoy extravagant foods\, specialty cocktails\, beer and wine\, coffee and cigar bars\, live entertainment\, silent auction\, cirque performances\, fireworks and more! \n\nProceeds benefit IMPOWER to support critical mental health and child well-being programs for at-risk children and families.
X-ALT-DESC;FMTTYPE=text/html:<span style="font-size:medium"><span style="font-family:calibri">Experience the red carpet treatment and enjoy the high-octane thrills at this unique progressive gala staged inside 3 private aircraft hangars.&nbsp\; Mingle among the world&rsquo\;s most exotic cars\, planes and boats\, enjoy extravagant foods\, specialty cocktails\, beer and wine\, coffee and cigar bars\, live entertainment\, silent auction\, cirque performances\, fireworks and more!&nbsp\;</span></span><br />\n<span style="font-size:medium"><span style="font-family:calibri">Proceeds benefit IMPOWER to support critical mental health and child well-being programs for at-risk children and families. </span></span><br />\n&nbsp\;
LOCATION:Orlando Sanford International Airport\, Southeast Ramp\, 2151 Spinner Lane\, Sanford\, FL 32771
UID:e.2138.5724
SEQUENCE:3
DTSTAMP:20260425T150440Z
URL:https://business.seminolebusiness.org/events/details/the-power-event-live-benefitting-impower-5724
END:VEVENT

END:VCALENDAR
