BEGIN:VCALENDAR
VERSION:2.0
PRODID:-//ChamberMaster//Event Calendar 2.0//EN
METHOD:PUBLISH
X-PUBLISHED-TTL:P3D
REFRESH-INTERVAL:P3D
CALSCALE:GREGORIAN
BEGIN:VEVENT
DTSTART:20180405T163000Z
DTEND:20180405T173000Z
X-MICROSOFT-CDO-ALLDAYEVENT:FALSE
SUMMARY:The Residential Home Care Network's Orange/Seminole Chapter Networking Lunch
DESCRIPTION:The Residential Home Care Network invites you to join our Assisted Living  & Adult Family Care Home Providers  (16beds and under) at their Monthly Networking Luncheon. Not a member nor a sponsor? We invite you to vist our website for Membership and sponsorship details.
X-ALT-DESC;FMTTYPE=text/html:The Residential Home Care Network invites you to join our Assisted Living&nbsp\; &amp\; Adult Family Care Home Providers&nbsp\; (16beds and under) at their Monthly Networking Luncheon. Not a member nor a sponsor? We invite you to vist our website for Membership and sponsorship details.
LOCATION:One Senior Place 715 Douglas Ave Altamonte Springs\, Fl 32714
UID:e.2138.8764
SEQUENCE:3
DTSTAMP:20260424T120545Z
URL:https://business.seminolebusiness.org/events/details/the-residential-home-care-network-s-orange-seminole-chapter-networking-lunch-04-05-2018-8764
END:VEVENT

END:VCALENDAR
