BEGIN:VCALENDAR
VERSION:2.0
PRODID:-//ChamberMaster//Event Calendar 2.0//EN
METHOD:PUBLISH
X-PUBLISHED-TTL:P3D
REFRESH-INTERVAL:P3D
CALSCALE:GREGORIAN
BEGIN:VEVENT
DTSTART:20161006T213000Z
DTEND:20161006T223000Z
X-MICROSOFT-CDO-ALLDAYEVENT:FALSE
SUMMARY:The Tradition Continues: UCP & BETA Center
DESCRIPTION:The Tradition Continues!\n\nBETA Center programs have recently transitioned to become part of UCP of Central Florida.\n\nIt has been a busy start to the school year and new chapter! We now have children from infant to 4th grade and of course our BETA high school program\,  attending educational programs at the UCP Downtown/BETA campus. We are grateful for the many groups that jumped in to help get the campus ready for the school year and new programs. From moving\, to painting\, to cleaning and construction   there hasn't been a dull moment!
X-ALT-DESC;FMTTYPE=text/html:<h2 style="text-align:center">The Tradition Continues!<br />\nBETA Center programs have recently transitioned to become part of UCP of Central Florida.</h2>\n\n<p style="text-align:center">It has been a busy start to the school year and new chapter! We now have children from infant to 4<span style="font-size:12px">th</span>&nbsp\;grade and of course our BETA high school program\, &nbsp\;attending educational programs at the UCP Downtown/BETA campus. We are grateful for the many groups that jumped in to help get the campus ready for the school year and new programs. From moving\, to painting\, to cleaning and construction &ndash\; there hasn&rsquo\;t been a dull moment!</p>\n
LOCATION:UCP Downtown/BETA Campus 4680 Lake Underhill Road Orlando\, FL 32839
UID:e.2138.4891
SEQUENCE:3
DTSTAMP:20260425T164721Z
URL:https://business.seminolebusiness.org/events/details/the-tradition-continues-ucp-beta-center-4891
END:VEVENT

END:VCALENDAR
