BEGIN:VCALENDAR
VERSION:2.0
PRODID:-//ChamberMaster//Event Calendar 2.0//EN
METHOD:PUBLISH
X-PUBLISHED-TTL:P3D
REFRESH-INTERVAL:P3D
CALSCALE:GREGORIAN
BEGIN:VEVENT
DTSTART:20251030T180000Z
DTEND:20251030T200000Z
X-MICROSOFT-CDO-ALLDAYEVENT:FALSE
SUMMARY:The Truth About Estate Planning
DESCRIPTION:This complimentary and interactive workshop is designed to educate families about general estate planning principles\, the federal estate and gift tax structures\, and the importance of implementing and maintaining estate plans.
X-ALT-DESC;FMTTYPE=text/html:This complimentary and interactive workshop is designed to educate families about general estate planning principles\, the federal estate and gift tax structures\, and the importance of implementing and maintaining estate plans.
LOCATION:One Senior Place 715 Douglas Ave\, Altamonte Springs\, FL 32714
UID:e.2138.38766
SEQUENCE:3
DTSTAMP:20260423T053856Z
URL:https://business.seminolebusiness.org/events/details/the-truth-about-estate-planning-10-30-2025-38766
END:VEVENT

END:VCALENDAR
