BEGIN:VCALENDAR
VERSION:2.0
PRODID:-//ChamberMaster//Event Calendar 2.0//EN
METHOD:PUBLISH
X-PUBLISHED-TTL:P3D
REFRESH-INTERVAL:P3D
CALSCALE:GREGORIAN
BEGIN:VEVENT
DTSTART:20251001T133000Z
DTEND:20251001T153000Z
X-MICROSOFT-CDO-ALLDAYEVENT:FALSE
SUMMARY:The Truth About Medicaid Planning
DESCRIPTION:As our society continues to age\, one of the greatest concerns of the elderly\, their friends\, family members and other loved ones is that they may need nursing home care in the future\, especially as the costs for nursing home care continue to increase. This workshop will debunk many of the myths you may have heard with regard to Medicaid eligibility. We will explore opportunities that enable you to protect and preserve your assets\, preserve your independence and maintain your security as you confront the concerns of aging\, illness and possible nursing home placement.
X-ALT-DESC;FMTTYPE=text/html:As our society continues to age\, one of the greatest concerns of the elderly\, their friends\, family members and other loved ones is that they may need nursing home care in the future\, especially as the costs for nursing home care continue to increase. This workshop will debunk many of the myths you may have heard with regard to Medicaid eligibility. We will explore opportunities that enable you to protect and preserve your assets\, preserve your independence and maintain your security as you confront the concerns of aging\, illness and possible nursing home placement.
LOCATION:Virtual location\, Once registered\, you will receive a confirmation email with a URL.
UID:e.2138.38763
SEQUENCE:3
DTSTAMP:20260423T053827Z
URL:https://business.seminolebusiness.org/events/details/the-truth-about-medicaid-planning-10-01-2025-38763
END:VEVENT

END:VCALENDAR
