BEGIN:VCALENDAR
VERSION:2.0
PRODID:-//ChamberMaster//Event Calendar 2.0//EN
METHOD:PUBLISH
X-PUBLISHED-TTL:P3D
REFRESH-INTERVAL:P3D
CALSCALE:GREGORIAN
BEGIN:VEVENT
DTSTART:20190627T220000Z
DTEND:20190627T234500Z
X-MICROSOFT-CDO-ALLDAYEVENT:FALSE
SUMMARY:The Ultimate Guide to Your Golden Years
DESCRIPTION:Attention: Pre Retirees and Retirees - \n\n\n\nThis free event is dedicated to learning about all the ways to preserve the gold in your golden years\, such as: saving money from nursing homes\, protecting your family's legacy\, ways to avoid probate\, and much more! Call now or email to RSVP! \n\n\n\n*Complimentary dinner and refreshments will be provided.
X-ALT-DESC;FMTTYPE=text/html:Attention: Pre Retirees and Retirees -&nbsp\;<br />\n<br />\nThis<strong> free</strong> event is dedicated to learning about all the ways to preserve the gold in your golden years\, such as: saving money from nursing homes\, protecting your family&#39\;s legacy\, ways to avoid probate\, and much more! Call now or email to RSVP!&nbsp\;<br />\n<br />\n*Complimentary dinner and refreshments will be provided.&nbsp\;
LOCATION:One Senior Place 715 Douglas Ave. Altamonte Springs\, FL
UID:e.2138.15180
SEQUENCE:3
DTSTAMP:20260422T063113Z
URL:https://business.seminolebusiness.org/events/details/the-ultimate-guide-to-15180
END:VEVENT

END:VCALENDAR
