BEGIN:VCALENDAR
VERSION:2.0
PRODID:-//ChamberMaster//Event Calendar 2.0//EN
METHOD:PUBLISH
X-PUBLISHED-TTL:P3D
REFRESH-INTERVAL:P3D
CALSCALE:GREGORIAN
BEGIN:VEVENT
DTSTART:20190829T220000Z
DTEND:20190829T233000Z
X-MICROSOFT-CDO-ALLDAYEVENT:FALSE
SUMMARY:The Ultimate Guide to Your Golden Years
DESCRIPTION:Do you like educational workshops and free dinner? Well\, you're in luck! \n\n\n\nFamily First Firm is hosting another Ultimate Guide to Your Golden Years event on Thursday\, August 29th at 6:00pm.\n\n\n\n\n\nLearn more about:\n\n- Medicaid Eligibility \n\n- Long term care planning\n\n- Veterans Benefits Eligibility \n\n- The benefits of meeting with an Elder Law attorney\n\n& More!
X-ALT-DESC;FMTTYPE=text/html:<h2 style="text-align: center\;">Do you like educational workshops and free dinner? Well\, you&#39\;re in luck!&nbsp\;</h2>\n\n<div style="text-align: center\;"><br />\nFamily First Firm is hosting another Ultimate Guide to Your Golden Years event on Thursday\, August 29th at 6:00pm.</div>\n\n<h4 style="text-align: center\;"><br />\n<br />\nLearn more about:</h4>\n\n<div style="text-align: center\;"><strong>- Medicaid Eligibility&nbsp\;<br />\n- Long term care planning<br />\n- Veterans Benefits Eligibility&nbsp\;<br />\n- The benefits of meeting with an Elder Law attorney<br />\n&amp\; More!&nbsp\;</strong><br />\n<br />\n<br />\n&nbsp\;</div>\n<br />\n&nbsp\;
LOCATION:One Senior Place 715 Douglas Ave. Altamonte Springs\, FL
UID:e.2138.16251
SEQUENCE:3
DTSTAMP:20260422T034832Z
URL:https://business.seminolebusiness.org/events/details/the-ultimate-guide-to-your-golden-years-08-29-2019-16251
END:VEVENT

END:VCALENDAR
