BEGIN:VCALENDAR
VERSION:2.0
PRODID:-//ChamberMaster//Event Calendar 2.0//EN
METHOD:PUBLISH
X-PUBLISHED-TTL:P3D
REFRESH-INTERVAL:P3D
CALSCALE:GREGORIAN
BEGIN:VEVENT
DTSTART:20190926T220000Z
DTEND:20190926T233000Z
X-MICROSOFT-CDO-ALLDAYEVENT:FALSE
SUMMARY:The Ultimate Guide to Your Golden Years
DESCRIPTION:The Ultimate Guide to Your Golden Years is a FREE workshop hosted by award-winning CEO/Principal Attorney\, Geoff Hoatson. \n\n\n\nLearn how to make smart decisions when planning for your future\, benefits you may be entitled to\, common mistakes made in estate planning documents\, and more! \n\n\n\nComplimentary dinner and refreshments will be provided!\n\n\n\nRSVP: emily@familyfirstfirm.com or call: 407-574-8125
X-ALT-DESC;FMTTYPE=text/html:<div style="text-align: center\;"><span style="font-size:16px\;"><span style="font-family:verdana\;"><span style="color:#000000\;"><span class="marker">The Ultimate Guide to Your Golden Years is a FREE workshop hosted by award-winning CEO/Principal Attorney\, Geoff Hoatson.&nbsp\;</span></span><br />\n<br />\nLearn how to make smart decisions when planning for your future\, benefits you may be entitled to\, common mistakes made in estate planning documents\, and more!&nbsp\;<br />\n<br />\nComplimentary dinner and refreshments will be provided!<br />\n<br />\nRSVP: emily@familyfirstfirm.com or call: 407-574-8125&nbsp\;</span></span></div>\n<br />\n&nbsp\;
LOCATION:One Senior Place 715 Douglas Avenue Altamonte Springs\, FL 32714
UID:e.2138.17367
SEQUENCE:3
DTSTAMP:20260422T022333Z
URL:https://business.seminolebusiness.org/events/details/the-ultimate-guide-to-your-golden-years-09-26-2019-17367
END:VEVENT

END:VCALENDAR
