BEGIN:VCALENDAR
VERSION:2.0
PRODID:-//ChamberMaster//Event Calendar 2.0//EN
METHOD:PUBLISH
X-PUBLISHED-TTL:P3D
REFRESH-INTERVAL:P3D
CALSCALE:GREGORIAN
BEGIN:VEVENT
DTSTART:20190725T220000Z
DTEND:20190725T233000Z
X-MICROSOFT-CDO-ALLDAYEVENT:FALSE
SUMMARY:The Ultimate Guide to Your Golden Years
DESCRIPTION:FREE EVENT! Complimentary food and drinks provided. \n\nLearn how to keep the GOLD in your Golden Years! \n\n\n\nJoin us for a complimentary workshop at One Senior Place in Altamonte Springs at 6:00pm. on Thursday\, July 25th to learn: how to save your house and money from the nursing facilities\, plan for long-term care in retirement\, about wills & trusts\, and more!\n\nRSVP: 407-574-8125 or email: emily@familyfirstfirm.com
X-ALT-DESC;FMTTYPE=text/html:<h2 style="text-align: center\;"><span style="font-size:20px"><span style="font-family:verdana"><strong><span class="marker"><span style="color:rgb(29\, 33\, 41)">FREE EVENT! Complimentary food and drinks provided. </span></span><br />\n<span style="color:rgb(29\, 33\, 41)">Learn how to keep the GOLD in your Golden Years! </span></strong></span></span></h2>\n\n<div style="text-align: center\;"><br />\n<span style="font-size:20px"><span style="font-family:verdana"><span style="color:rgb(29\, 33\, 41)">Join us for a complimentary workshop at One Senior Place in Altamonte Springs at 6:00pm. on Thursday\, July 25th to learn: how to save your house and money from the nursing facilities\, plan for long-term care in retirement\, about wills &amp\; trusts\, and more!</span></span></span></div>\n\n<h2 style="font-style: italic\; text-align: center\;"><span style="font-size:20px"><span style="font-family:verdana"><big><span style="color:rgb(29\, 33\, 41)">RSVP: 407-574-8125 or email: emily@familyfirstfirm.com</span></big></span></span></h2>\n
LOCATION:One Senior Place 715 Douglas Ave. Altamonte Springs\, FL
UID:e.2138.15194
SEQUENCE:3
DTSTAMP:20260422T050333Z
URL:https://business.seminolebusiness.org/events/details/the-ultimate-guide-to-your-golden-years-15194
END:VEVENT

END:VCALENDAR
