BEGIN:VCALENDAR
VERSION:2.0
PRODID:-//ChamberMaster//Event Calendar 2.0//EN
METHOD:PUBLISH
X-PUBLISHED-TTL:P3D
REFRESH-INTERVAL:P3D
CALSCALE:GREGORIAN
BEGIN:VEVENT
DTSTART:20190602T140000Z
DTEND:20190602T180000Z
X-MICROSOFT-CDO-ALLDAYEVENT:FALSE
SUMMARY:TIMACUAN SUNDAY BRUNCH
DESCRIPTION:The 1st Sunday of Every Month -- Sunday Brunch at Timacuan Golf & Country Club is BACK!  \nThe feedback has been tremendous\, and we are humbled to bring our community together to share excellent food in a beautiful setting.  While filling out the RSVP Reservation Form\, opt'd in to our email list (used for future social event notifications & special offerings at the Club) and you'll receive our Member Discount rate of only 19.50 for this brunch (15% off our regular Brunch rate). \n\n\n	PRIME RIB STATION\n	Omelet Station\n	Waffle Station\n	Full Brunch Buffet Table\n	Full Cash Bar with Timacuan's Signature Mimosas & Bloody Marys
X-ALT-DESC;FMTTYPE=text/html:The <u><strong>1st Sunday of Every Month</strong></u> -- Sunday Brunch at Timacuan Golf &amp\; Country Club is BACK!&nbsp\;&nbsp\;\n<div>The feedback has been tremendous\, and we are humbled to bring our community together to share excellent food in a beautiful setting.&nbsp\; While filling out the <a href="http://timacuanCountryClub.com/rsvp">RSVP </a>Reservation Form\, opt&#39\;d in to our email list (used for future social event notifications &amp\; special offerings at the Club) and you&#39\;ll receive our Member Discount rate of only 19.50 for this brunch (15% off our regular Brunch rate).&nbsp\;</div>\n\n<ul>\n	<li>PRIME RIB STATION</li>\n	<li>Omelet Station</li>\n	<li>Waffle Station</li>\n	<li>Full Brunch Buffet Table</li>\n	<li>Full Cash Bar with Timacuan&#39\;s Signature Mimosas &amp\; Bloody Marys&nbsp\;</li>\n</ul>\n\n<div>&nbsp\;</div>\n\n<div>&nbsp\;</div>\n
LOCATION:Timacuan Golf & Country Club Event Center 550 Timacuan Blvd. Lake Mary\, FL 32746
UID:e.2138.14978
SEQUENCE:3
DTSTAMP:20260422T063229Z
URL:https://business.seminolebusiness.org/events/details/timacuan-sunday-brunch-06-02-2019-14978
END:VEVENT

END:VCALENDAR
