BEGIN:VCALENDAR
VERSION:2.0
PRODID:-//ChamberMaster//Event Calendar 2.0//EN
METHOD:PUBLISH
X-PUBLISHED-TTL:P3D
REFRESH-INTERVAL:P3D
CALSCALE:GREGORIAN
BEGIN:VEVENT
DTSTART:20180514T220000Z
DTEND:20180515T000000Z
X-MICROSOFT-CDO-ALLDAYEVENT:FALSE
SUMMARY:Toast to Brighter Futures
DESCRIPTION:UCP of Central Florida's Young Executive Committee Presents A Toast to Brighter Futures. Join us for this toast & raffle\, benefitting UCP's Summer Camp Scholarship Program! Ticket purchase includes 1 drink ticket\, appetizers\, and a great time!
X-ALT-DESC;FMTTYPE=text/html:UCP of Central Florida&#39\;s Young Executive Committee Presents A Toast to Brighter Futures. Join us for this toast &amp\; raffle\, benefitting UCP&#39\;s Summer Camp Scholarship Program! Ticket purchase includes 1 drink ticket\, appetizers\, and a great time!
LOCATION:Orlando Citrus Club 255 S Orange Ave Suite 1800\, Orlando\, FL 32801
UID:e.2138.8966
SEQUENCE:3
DTSTAMP:20260424T101958Z
URL:https://business.seminolebusiness.org/events/details/toast-to-brighter-futures-8966
END:VEVENT

END:VCALENDAR
