BEGIN:VCALENDAR
VERSION:2.0
PRODID:-//ChamberMaster//Event Calendar 2.0//EN
METHOD:PUBLISH
X-PUBLISHED-TTL:P3D
REFRESH-INTERVAL:P3D
CALSCALE:GREGORIAN
BEGIN:VEVENT
DTSTART:20161102T200000Z
DTEND:20161102T220000Z
X-MICROSOFT-CDO-ALLDAYEVENT:FALSE
SUMMARY:Tobacco Free Seminole Coalition Meeting
DESCRIPTION:Tobacco use is still the leading cause of preventable death in the United States.\n\n\n\nTobacco Free Seminole Coalition advocates for issues important to the health of our community\, and takes a stand against tobacco use\, industry and tactics that are used to recruit users.  We are committed to help people quit using tobacco products\, reduce the marketing influences that tobacco companies have in our community\, and reduce youth access to tobacco.\n\n\n\nAttendees will have the opporttunity to be educated on Marketing strategies that tobacco companies have been using for decades to allure youth and young adults to use their deadly products. Information about how those strategies apply to Seminole County and how we can play an important role to protect our young population will be shared as well.
X-ALT-DESC;FMTTYPE=text/html:<span style="font-size:14px"><span style="font-family:arial\,helvetica\,sans-serif"><strong>Tobacco use is still the&nbsp\;leading cause of preventable death in the United States.</strong><br />\n<br />\nTobacco Free&nbsp\;Seminole Coalition advocates for issues important to the health of our community\, and takes a stand against tobacco use\, industry and tactics that are used to recruit users.&nbsp\; We are committed to help people quit using tobacco products\, reduce the marketing influences that tobacco companies have in our community\, and reduce youth access to tobacco.</span></span><br />\n<br />\n<span style="font-size:16px"><span style="font-family:arial\,helvetica\,sans-serif"><span style="font-size:14px">Attendees will have the opporttunity to be educated on&nbsp\;Marketing&nbsp\;strategies that&nbsp\;tobacco companies have been using for decades&nbsp\;to allure&nbsp\;youth and young adults&nbsp\;to use their deadly products. Information about how those strategies apply to Seminole County and how&nbsp\;we can play an important role to protect our young population will be shared as well.</span></span></span><br />\n&nbsp\;<br />\n<br />\n&nbsp\;<br />\n&nbsp\;
LOCATION:The Florida Department of Health 400 W. Airport Blvd. Sanford\, FL DOH-Auditoruim.
UID:e.2138.5732
SEQUENCE:3
DTSTAMP:20260425T150449Z
URL:https://business.seminolebusiness.org/events/details/tobacco-free-seminole-coalition-meeting-5732
END:VEVENT

END:VCALENDAR
