BEGIN:VCALENDAR
VERSION:2.0
PRODID:-//ChamberMaster//Event Calendar 2.0//EN
METHOD:PUBLISH
X-PUBLISHED-TTL:P3D
REFRESH-INTERVAL:P3D
CALSCALE:GREGORIAN
BEGIN:VEVENT
DTSTART:20160412T200000Z
DTEND:20160412T213000Z
X-MICROSOFT-CDO-ALLDAYEVENT:FALSE
SUMMARY:Tobacco Free Seminole Meeting
DESCRIPTION:Tobacco Free Seminole Partnership \n\n"Live Tobacco Free\, Work Tobacco Free\, Stay Tobacco Free"     \n\n\n\nMission:  To protect the people of Florida from the dangers of Tobacco
X-ALT-DESC;FMTTYPE=text/html:<strong><span style="font-size:12pt"><span style="font-family:times new roman\,serif">Tobacco Free Seminole Partnership </span></span></strong><br />\n<strong><span style="font-size:12pt"><span style="font-family:times new roman\,serif">&ldquo\;Live Tobacco Free\, Work Tobacco Free\, Stay Tobacco Free&rdquo\;&nbsp\;</span></span></strong>&nbsp\;&nbsp\;&nbsp\;&nbsp\;<br />\n<br />\n<span style="font-family:times new roman\,serif"><span style="font-size:medium">Mission:&nbsp\; </span></span><span style="font-size:12pt"><span style="font-family:times new roman\,serif">To protect the people of Florida from the dangers of Tobacco </span></span>
LOCATION:400 W. Airport Blvd.\, Sanford\, FL 32773\, Auditorium
UID:e.2138.4307
SEQUENCE:3
DTSTAMP:20260426T013959Z
URL:https://business.seminolebusiness.org/events/details/tobacco-free-seminole-meeting-04-12-2016-4307
END:VEVENT

END:VCALENDAR
