BEGIN:VCALENDAR
VERSION:2.0
PRODID:-//ChamberMaster//Event Calendar 2.0//EN
METHOD:PUBLISH
X-PUBLISHED-TTL:P3D
REFRESH-INTERVAL:P3D
CALSCALE:GREGORIAN
BEGIN:VEVENT
DTSTART:20160713T193000Z
DTEND:20160713T213000Z
X-MICROSOFT-CDO-ALLDAYEVENT:FALSE
SUMMARY:Tobacco Free Seminole Partnership Meeting
DESCRIPTION:OUR MISSION\n\nThe Tobacco Free Partnership of Seminole is a community based coalition created to impact policy and systems change\, reduce the use of tobacco products and prevent initiation.\n\nOUR COMMITMENT\n\nThe Partnership advocates for issues important to the health of our community\, and takes a stand against tobacco use\, industry and tactics that are used to recruit users.  We are committed to helping people quit using tobacco products\, reduce the marketing influences that tobacco companies have in our community\, and reduce youth access to tobacco.\n\nJoin Today
X-ALT-DESC;FMTTYPE=text/html:<span style="font-size:14px"><span style="font-family:arial\,helvetica\,sans-serif"><strong>OUR MISSION</strong><br />\nThe Tobacco Free Partnership of Seminole is a community based coalition created to impact policy and systems change\, reduce the use of tobacco products and prevent initiation.<br />\n<strong>OUR COMMITMENT</strong><br />\nThe Partnership advocates for issues important to the health of our community\, and takes a stand against tobacco use\, industry and tactics that are used to recruit users.&nbsp\; We are committed to helping people quit using tobacco products\, reduce the marketing influences that tobacco companies have in our community\, and reduce youth access to tobacco.</span></span><br />\n<span style="font-size:16px"><span style="font-family:arial\,helvetica\,sans-serif"><strong><span style="color:rgb(0\, 112\, 192)">Join Today</span></strong></span></span><br />\n<br />\n&nbsp\;<br />\n<br />\n&nbsp\;<br />\n&nbsp\;
LOCATION:The Florida Department of Health 400 W. Airport Blvd.\, Sanford\, FL DOH-Auditoruim.
UID:e.2138.4114
SEQUENCE:3
DTSTAMP:20260425T211755Z
URL:https://business.seminolebusiness.org/events/details/tobacco-free-seminole-partnership-meeting-07-13-2016-4114
END:VEVENT

END:VCALENDAR
