BEGIN:VCALENDAR
VERSION:2.0
PRODID:-//ChamberMaster//Event Calendar 2.0//EN
METHOD:PUBLISH
X-PUBLISHED-TTL:P3D
REFRESH-INTERVAL:P3D
CALSCALE:GREGORIAN
BEGIN:VEVENT
DTSTART:20170201T190000Z
DTEND:20170201T210000Z
X-MICROSOFT-CDO-ALLDAYEVENT:FALSE
SUMMARY:Tools To Quit Program- Tobacco Cessation Class
DESCRIPTION:If you're ready to quit tobacco\, Help is FREE!\n\n\n\nTools to Quit is a two hour seminar to help you plan a successful quit.\n\nA supply of nicotine replacement products is available at no cost to you.\n\n\n\nPlease call 877-252-6094 to register as space is limited
X-ALT-DESC;FMTTYPE=text/html:If you&#39\;re ready to quit tobacco\, Help is FREE!<br />\n<br />\nTools to Quit is a two hour seminar to help you plan a successful quit.<br />\nA supply of nicotine replacement products is available at no cost to you.<br />\n<br />\nPlease call 877-252-6094 to register as space is limited
LOCATION:Florida Department of Health in Seminole County Room: Computer Lab Address: 400 West Airport Blvd.\, Sanford\, FL 32773
UID:e.2138.4774
SEQUENCE:3
DTSTAMP:20260423T161431Z
URL:https://business.seminolebusiness.org/events/details/tools-to-quit-program-tobacco-cessation-class-02-01-2017-4774
END:VEVENT

END:VCALENDAR
