BEGIN:VCALENDAR
VERSION:2.0
PRODID:-//ChamberMaster//Event Calendar 2.0//EN
METHOD:PUBLISH
X-PUBLISHED-TTL:P3D
REFRESH-INTERVAL:P3D
CALSCALE:GREGORIAN
BEGIN:VEVENT
DTSTART:20170219T113000Z
DTEND:20170219T190000Z
X-MICROSOFT-CDO-ALLDAYEVENT:FALSE
SUMMARY:Tour Latino
DESCRIPTION:
X-ALT-DESC;FMTTYPE=text/html:
LOCATION:Clermont Waterfront Park
UID:e.2138.6450
SEQUENCE:3
DTSTAMP:20260423T161508Z
URL:https://business.seminolebusiness.org/events/details/tour-latino-6450
END:VEVENT

END:VCALENDAR
