BEGIN:VCALENDAR
VERSION:2.0
PRODID:-//ChamberMaster//Event Calendar 2.0//EN
METHOD:PUBLISH
X-PUBLISHED-TTL:P3D
REFRESH-INTERVAL:P3D
CALSCALE:GREGORIAN
BEGIN:VEVENT
DTSTART:20171207T210000Z
DTEND:20171208T000000Z
X-MICROSOFT-CDO-ALLDAYEVENT:FALSE
SUMMARY:TownePlace Suites Altamonte Springs Grand Opening!
DESCRIPTION:TownePlace Suites by Marriott Orlando Altamonte Springs/Maitland\n\nGrand Opening Celebration!  \n\n\n\nThere will be food\, drinks\, music and raffles!
X-ALT-DESC;FMTTYPE=text/html:<div style="text-align: center\;"><strong>TownePlace Suites by Marriott Orlando Altamonte Springs/Maitland<br>\n<span style="font-size:14px">Grand Opening Celebration!&nbsp\; </span><br>\n<br>\nThere will be food\, drinks\, music and raffles!</strong></div>\n
LOCATION:151 Douglas Ave. Altamonte Springs\, 32714
UID:e.2138.8506
SEQUENCE:3
DTSTAMP:20260424T061300Z
URL:https://business.seminolebusiness.org/events/details/towneplace-suites-altamonte-springs-grand-opening-8506
END:VEVENT

END:VCALENDAR
